BEGIN:VCALENDAR
VERSION:2.0
PRODID:-//ChamberMaster//Event Calendar 2.0//EN
METHOD:PUBLISH
X-PUBLISHED-TTL:P3D
REFRESH-INTERVAL:P3D
CALSCALE:GREGORIAN
BEGIN:VEVENT
DTSTART:20250604T010000Z
DTEND:20250604T023000Z
X-MICROSOFT-CDO-ALLDAYEVENT:FALSE
SUMMARY:Wildlife on Tap - Harmful Algal Blooms
DESCRIPTION:Join Wyoming Wildlife Federation and the US Forest Service's Gwen Gerber to talk about algae and the quality of Wyoming's water bodies. Grab a drink and join us for an evening of learning and interesting conversation.\n\n\n\nWildlife on Tap is an extension of the Wyoming Wildlife Federation's education program. The education program includes kids' education through curated Wyoming-based curricula\, Class Outside Summer Camps\, and community events like Wildlife on Tap for adults.
X-ALT-DESC;FMTTYPE=text/html:Join Wyoming Wildlife Federation and the US Forest Service&#39\;s Gwen Gerber to talk about algae and the quality of Wyoming&#39\;s water bodies. Grab a drink and join us for an evening of learning and interesting conversation.<br />\n<br />\nWildlife on Tap is an extension of the Wyoming Wildlife Federation&rsquo\;s education program. The education program includes kids&rsquo\; education through curated Wyoming-based curricula\, Class Outside Summer Camps\, and community events like Wildlife on Tap for adults.<br />\n<br />\n<br />\n&nbsp\;
LOCATION:Pushroot Brewing Company
UID:e.1258.31780
SEQUENCE:3
DTSTAMP:20260421T034805Z
URL:http://info.landerchamber.org/events/details/wildlife-on-tap-harmful-algal-blooms-31780
END:VEVENT

END:VCALENDAR
