BEGIN:VCALENDAR
VERSION:2.0
PRODID:-//ChamberMaster//Event Calendar 2.0//EN
METHOD:PUBLISH
X-PUBLISHED-TTL:P3D
REFRESH-INTERVAL:P3D
CALSCALE:GREGORIAN
BEGIN:VEVENT
DTSTART:20231206T020000Z
DTEND:20231206T030000Z
X-MICROSOFT-CDO-ALLDAYEVENT:FALSE
SUMMARY:Wildlife on Tap - Fisheries Biologist Paul Gerrity
DESCRIPTION:Want to learn about the conservation issues and solutions affecting our wildlife\, wild places\, and outdoor opportunities? Attend the Wildlife On Tap series at the Coalter Loft to get the latest from wildlife and land-use professionals in the local area and expand your knowledge of issues impacting the wildlife\, habitat\, and outdoor opportunities we all know and love.\n\n\n\nThe speaker for this month's Wildlife on Tap is WGFD fisheries biologist\, Paul Gerrity. \n\n\n\nWildlife on Tap is an extension of the Wyoming Wildlife Federation's education program. The education program includes kids' education through curated Wyoming-based curricula\, Class Outside Summer Camps\, and community events like Wildlife on Tap for adults.
X-ALT-DESC;FMTTYPE=text/html:<span style="color:rgb(68\, 68\, 68)\; font-family:arial\,helvetica\,sans-serif\; font-size:14px">Want to learn about the conservation issues and solutions affecting our wildlife\, wild places\, and outdoor opportunities? Attend the Wildlife On Tap series at the Coalter Loft&nbsp\;to get the latest from wildlife and land-use professionals in the local area and expand your knowledge of issues impacting the wildlife\, habitat\, and outdoor opportunities we all know and love.<br />\n<br />\nThe speaker for this month&#39\;s Wildlife on Tap is WGFD fisheries biologist\, Paul Gerrity.&nbsp\;<br />\n<br />\nWildlife on Tap is an extension of the Wyoming Wildlife Federation&rsquo\;s education program. The education program includes kids&rsquo\; education through curated Wyoming-based curricula\, Class Outside Summer Camps\, and community events like Wildlife on Tap for adults.</span>
LOCATION:The Coalter Loft above the Gannett Grill. 126 Main St. Lander\, WY 82520
UID:e.1258.30922
SEQUENCE:3
DTSTAMP:20260420T021124Z
URL:http://info.landerchamber.org/events/details/wildlife-on-tap-fisheries-biologist-paul-gerrity-30922
END:VEVENT

END:VCALENDAR
