BEGIN:VCALENDAR
VERSION:2.0
PRODID:-//ChamberMaster//Event Calendar 2.0//EN
METHOD:PUBLISH
X-PUBLISHED-TTL:P3D
REFRESH-INTERVAL:P3D
CALSCALE:GREGORIAN
BEGIN:VEVENT
DTSTART:20231108T020000Z
DTEND:20231108T030000Z
X-MICROSOFT-CDO-ALLDAYEVENT:FALSE
SUMMARY:Wildlife on Tap
DESCRIPTION:Want to learn about the conservation issues and solutions affecting our wildlife\, wild places\, and outdoor opportunities? Attend the Wildlife on Tap series at the Coalter Loft to get the latest from wildlife and land-use professionals in the local area and expand your knowledge of issues impacting the wildlife\, habitat\, and outdoor opportunities we all know and love.\n\nWildlife on Tap is an extension of the Wyoming Wildlife Federation's education program. The education program includes kids' education through curated Wyoming-based curricula\, Class Outside Summer Camps\, and community events like Wildlife on Tap for adults.
X-ALT-DESC;FMTTYPE=text/html:<p>Want to learn about the conservation issues and solutions affecting our wildlife\, wild places\, and outdoor opportunities? Attend the <em>Wildlife on Tap</em> series at the Coalter Loft&nbsp\;to get the latest from wildlife and land-use professionals in the local area and expand your knowledge of issues impacting the wildlife\, habitat\, and outdoor opportunities we all know and love.</p>\n\n<p><em>Wildlife on Tap</em> is an extension of the Wyoming Wildlife Federation&rsquo\;s education program. The education program includes kids&rsquo\; education through curated Wyoming-based curricula\, Class Outside Summer Camps\, and community events like <em>Wildlife on Tap</em> for adults.</p>\n
LOCATION:The Coalter Loft above the Gannett Grill. 126 Main St.\, Lander\, WY 82520
UID:e.1258.30920
SEQUENCE:3
DTSTAMP:20260420T032857Z
URL:http://info.landerchamber.org/events/details/wildlife-on-tap-30920
END:VEVENT

END:VCALENDAR
