BEGIN:VCALENDAR
VERSION:2.0
PRODID:-//ChamberMaster//Event Calendar 2.0//EN
METHOD:PUBLISH
X-PUBLISHED-TTL:P3D
REFRESH-INTERVAL:P3D
CALSCALE:GREGORIAN
BEGIN:VEVENT
DTSTART:20190919T223000Z
DTEND:20190920T020000Z
X-MICROSOFT-CDO-ALLDAYEVENT:FALSE
SUMMARY:Water for Wildlife Banquet and Live Auction
DESCRIPTION:Water for Wildlife Foundation\n\n2019 Banquet and Live Auction\n\nThursday\, September 19\,2019\n\nLander Community Center\n\n\n\n4:30 No host cocktails and scotch tasting - with live music\n\n6pm dinner and live auction\n\n\n\njoin us for a fun evening to raise funds and awareness of the many water projects we complete each year in 12 western states- over 300 in Wyoming!\n\n\n\nlive auction items:\n\nArgentina dove hunt\n\nCabo San Lucas Trip\n\nGranite arms French walnut custom 30.06\n\nDiamond 4 Ranch overnight cabin stay\n\n\n\nTickets $50 each \n\nAvailable at Water for Wildlife 545 Main St. Lander
X-ALT-DESC;FMTTYPE=text/html:Water for Wildlife Foundation<br />\n2019 Banquet and Live Auction<br />\nThursday\, September 19\,2019<br />\nLander Community Center<br />\n<br />\n4:30 No host cocktails and scotch tasting - with live music<br />\n6pm dinner and live auction<br />\n<br />\njoin us for a fun evening to raise funds and awareness of the many water projects we complete each year in 12 western states- over 300 in Wyoming!<br />\n<br />\nlive auction items:<br />\nArgentina dove hunt<br />\nCabo San Lucas Trip<br />\nGranite arms French walnut custom 30.06<br />\nDiamond 4 Ranch overnight cabin stay<br />\n<br />\nTickets $50 each&nbsp\;<br />\nAvailable at Water for Wildlife 545 Main St. Lander
LOCATION:Lander Community Center Tickets Available at Water for Wildlife 545 Main St. Lander
UID:e.1258.25219
SEQUENCE:3
DTSTAMP:20260425T005536Z
URL:http://info.landerchamber.org/events/details/water-for-wildlife-banquet-and-live-auction-25219
END:VEVENT

END:VCALENDAR
