BEGIN:VCALENDAR
VERSION:2.0
PRODID:-//ChamberMaster//Event Calendar 2.0//EN
METHOD:PUBLISH
X-PUBLISHED-TTL:P3D
REFRESH-INTERVAL:P3D
CALSCALE:GREGORIAN
BEGIN:VEVENT
DTSTART:20230923T153000Z
DTEND:20230923T180000Z
X-MICROSOFT-CDO-ALLDAYEVENT:FALSE
SUMMARY:Walk to End Alzheimer's
DESCRIPTION:Held annually in more than 600 communities nationwide\, the Alzheimer's Association Walk to End Alzheimer's  is the world's largest fundraiser for Alzheimer's care\, support and research. This inspiring event calls on participants of all ages and abilities to join the fight against the disease.\n \n\nWhile there is no fee to register for Walk\, all participants are encouraged to raise critical funds that allow the Alzheimer's Association to provide 24/7 care and support and advance research toward methods of prevention\, treatment and\, ultimately\, a cure.
X-ALT-DESC;FMTTYPE=text/html:<p>Held annually in more than 600 communities nationwide\, the Alzheimer&#39\;s Association Walk to End Alzheimer&#39\;s&reg\;&nbsp\;is the world&#39\;s largest fundraiser for Alzheimer&#39\;s care\, support and research. This inspiring event calls on participants of all ages and abilities to join the fight against the disease.</p>\n&nbsp\;\n\n<p>While there is no fee to register for Walk\, all participants are encouraged to raise critical funds that allow the Alzheimer&rsquo\;s Association to provide 24/7 care and support and advance research toward methods of prevention\, treatment and\, ultimately\, a cure.</p>\n
LOCATION:Lander City Park 405 Fremont St Lander\, WY 82520
UID:e.1258.30694
SEQUENCE:3
DTSTAMP:20260420T062329Z
URL:http://info.landerchamber.org/events/details/walk-to-end-alzheimer-s-09-23-2023-30694
END:VEVENT

END:VCALENDAR
