BEGIN:VCALENDAR
VERSION:2.0
PRODID:-//ChamberMaster//Event Calendar 2.0//EN
METHOD:PUBLISH
X-PUBLISHED-TTL:P3D
REFRESH-INTERVAL:P3D
CALSCALE:GREGORIAN
BEGIN:VEVENT
DTSTART:20220908T150000Z
DTEND:20220908T210000Z
X-MICROSOFT-CDO-ALLDAYEVENT:FALSE
SUMMARY:UW Fall 2022 College of Business Career Fair
DESCRIPTION:The University of Wyoming College of Business invites you to join us for our in-person Fall 2022 College of Business Career Fair. This event is open to all business majors and minors and will be held on September 8th from 9 AM - 3 PM at the University of Wyoming College of Business.\n\nPlease note: This event will cover all College of Business majors\, including Accounting and Finance. We will host targeted supplemental events throughout the year\, but we have decided to combine all academic areas to kick off the semester with one large event.\n\n\n\nEvent registration closes on August 25th\, 2022 and requires a $400 investment. Non-profit\, government\, and internal UW department pricing is available.\n\n\n\nInstructions:\n\nStep 1: Use this link to register by August 5th\, 2022: uwyobiz.com/careerfair. If you do not have a Handshake profile yet\, please create one to register.\n\n\n\nStep 2: Make a credit card payment here or send a check to the Green Johnson Student Success Center\, College of Business\, Dept. 3275\, 1000 E. University Ave.\, Laramie\, WY 82071
X-ALT-DESC;FMTTYPE=text/html:<p><span style="color: rgb(34\, 34\, 34)\; font-family: Arial\, Helvetica\, sans-serif\; font-size: small\;">The </span><b style="font-size: small\; color: rgb(34\, 34\, 34)\; font-family: Arial\, Helvetica\, sans-serif\;">University of Wyoming College of Business </b><span style="color: rgb(34\, 34\, 34)\; font-family: Arial\, Helvetica\, sans-serif\; font-size: small\;">invites you to join us for our&nbsp\;</span><b style="color: rgb(34\, 34\, 34)\; font-family: Arial\, Helvetica\, sans-serif\; font-size: small\;">in-person Fall 2022 College of Business Career Fair</b><span style="color: rgb(34\, 34\, 34)\; font-family: Arial\, Helvetica\, sans-serif\; font-size: small\;">. This event is open to all business majors and minors and will be held on&nbsp\;</span><b style="color: rgb(34\, 34\, 34)\; font-family: Arial\, Helvetica\, sans-serif\; font-size: small\;">September 8th from 9 AM - 3 PM&nbsp\;</b><span style="color: rgb(34\, 34\, 34)\; font-family: Arial\, Helvetica\, sans-serif\; font-size: small\;">at the&nbsp\;</span><b style="color: rgb(34\, 34\, 34)\; font-family: Arial\, Helvetica\, sans-serif\; font-size: small\;">University of Wyoming College of Business.</b></p>\n\n<p><span style="color: rgb(34\, 34\, 34)\; font-family: Arial\, Helvetica\, sans-serif\; font-size: small\;">Please note: This event will cover&nbsp\;</span><i style="color: rgb(34\, 34\, 34)\; font-family: Arial\, Helvetica\, sans-serif\; font-size: small\;">all&nbsp\;</i><span style="color: rgb(34\, 34\, 34)\; font-family: Arial\, Helvetica\, sans-serif\; font-size: small\;">College of Business majors\, including Accounting and Finance. We will host targeted supplemental events throughout the year\, but we have decided to combine all academic areas to kick off the semester with one large event.</span><br style="color: rgb(34\, 34\, 34)\; font-family: Arial\, Helvetica\, sans-serif\; font-size: small\;" />\n<br style="color: rgb(34\, 34\, 34)\; font-family: Arial\, Helvetica\, sans-serif\; font-size: small\;" />\n<span style="color: rgb(34\, 34\, 34)\; font-family: Arial\, Helvetica\, sans-serif\; font-size: small\;">Event registration closes on&nbsp\;</span><b style="color: rgb(34\, 34\, 34)\; font-family: Arial\, Helvetica\, sans-serif\; font-size: small\;">August 25th\, 2022&nbsp\;</b><span style="color: rgb(34\, 34\, 34)\; font-family: Arial\, Helvetica\, sans-serif\; font-size: small\;">and requires a $400 investment. Non-profit\, government\, and internal UW department pricing is available.</span><br style="color: rgb(34\, 34\, 34)\; font-family: Arial\, Helvetica\, sans-serif\; font-size: small\;" />\n<br style="color: rgb(34\, 34\, 34)\; font-family: Arial\, Helvetica\, sans-serif\; font-size: small\;" />\n<b style="color: rgb(34\, 34\, 34)\; font-family: Arial\, Helvetica\, sans-serif\; font-size: small\;"><u>Instructions:</u></b><br style="color: rgb(34\, 34\, 34)\; font-family: Arial\, Helvetica\, sans-serif\; font-size: small\;" />\n<b style="color: rgb(34\, 34\, 34)\; font-family: Arial\, Helvetica\, sans-serif\; font-size: small\;">Step 1:</b><span style="color: rgb(34\, 34\, 34)\; font-family: Arial\, Helvetica\, sans-serif\; font-size: small\;">&nbsp\;Use this link to register by&nbsp\;</span><b style="color: rgb(34\, 34\, 34)\; font-family: Arial\, Helvetica\, sans-serif\; font-size: small\;">August 5th\,&nbsp\;2022</b><span style="color: rgb(34\, 34\, 34)\; font-family: Arial\, Helvetica\, sans-serif\; font-size: small\;">:&nbsp\;</span><a data-saferedirecturl="https://www.google.com/url?q=https://urldefense.com/v3/__http:/uwyobiz.com/careerfair__\;!!FMox2LFwyA!77yEhd6vnWGO1idY-G0Wk2hfxx8_jTPqp9Lmd8ngpoa6oNF1XdheQQ9Fkkw7ynh-qcY$&amp\;source=gmail&amp\;ust=1651079827853000&amp\;usg=AOvVaw04gipsC54s325ErCLMtKyR" href="https://urldefense.com/v3/__http:/uwyobiz.com/careerfair__\;!!FMox2LFwyA!77yEhd6vnWGO1idY-G0Wk2hfxx8_jTPqp9Lmd8ngpoa6oNF1XdheQQ9Fkkw7ynh-qcY$" style="color: rgb(17\, 85\, 204)\; font-family: Arial\, Helvetica\, sans-serif\; font-size: small\;" target="_blank">uwyobiz.com/careerfair</a><span style="color: rgb(34\, 34\, 34)\; font-family: Arial\, Helvetica\, sans-serif\; font-size: small\;">. If you do not have a Handshake profile&nbsp\;yet\, please create one to register.</span><br style="color: rgb(34\, 34\, 34)\; font-family: Arial\, Helvetica\, sans-serif\; font-size: small\;" />\n<br style="color: rgb(34\, 34\, 34)\; font-family: Arial\, Helvetica\, sans-serif\; font-size: small\;" />\n<b style="color: rgb(34\, 34\, 34)\; font-family: Arial\, Helvetica\, sans-serif\; font-size: small\;">Step 2:</b><span style="color: rgb(34\, 34\, 34)\; font-family: Arial\, Helvetica\, sans-serif\; font-size: small\;">&nbsp\;Make a credit card payment&nbsp\;</span><a data-saferedirecturl="https://www.google.com/url?q=https://urldefense.com/v3/__https:/secure.touchnet.net/C27222_ustores/web/store_main.jsp?STOREID%3D81%26SINGLESTORE%3Dtrue__\;!!FMox2LFwyA!77yEhd6vnWGO1idY-G0Wk2hfxx8_jTPqp9Lmd8ngpoa6oNF1XdheQQ9Fkkw7ir5Dt2c$&amp\;source=gmail&amp\;ust=1651079827853000&amp\;usg=AOvVaw3CshpSfl_iF6XRaHNw38zo" href="https://urldefense.com/v3/__https:/secure.touchnet.net/C27222_ustores/web/store_main.jsp?STOREID=81&amp\;SINGLESTORE=true__\;!!FMox2LFwyA!77yEhd6vnWGO1idY-G0Wk2hfxx8_jTPqp9Lmd8ngpoa6oNF1XdheQQ9Fkkw7ir5Dt2c$" style="color: rgb(17\, 85\, 204)\; font-family: Arial\, Helvetica\, sans-serif\; font-size: small\;" target="_blank">here</a><span style="color: rgb(34\, 34\, 34)\; font-family: Arial\, Helvetica\, sans-serif\; font-size: small\;">&nbsp\;or send a check to the Green Johnson Student Success Center\, College of Business\, Dept. 3275\, 1000 E. University Ave.\, Laramie\, WY 82071</span></p>\n
LOCATION:East Ivinson Avenue\, Laramie\, Wyoming 82070\, United States
UID:e.1258.28775
SEQUENCE:3
DTSTAMP:20260421T180848Z
URL:http://info.landerchamber.org/events/details/uw-fall-2022-college-of-business-career-fair-28775
END:VEVENT

END:VCALENDAR
