BEGIN:VCALENDAR
VERSION:2.0
PRODID:-//ChamberMaster//Event Calendar 2.0//EN
METHOD:PUBLISH
X-PUBLISHED-TTL:P3D
REFRESH-INTERVAL:P3D
CALSCALE:GREGORIAN
BEGIN:VEVENT
DTSTART:20190722T000000Z
DTEND:20190722T030000Z
X-MICROSOFT-CDO-ALLDAYEVENT:FALSE
SUMMARY:Sunday Swing Dancing at the Coalter Loft
DESCRIPTION:Swing Dancing at the Coalter Loft\n\nSunday nights
X-ALT-DESC;FMTTYPE=text/html:<span style="color: rgb(98\, 98\, 98)\; font-family: Lato\, &quot\;Helvetica Neue&quot\;\, Helvetica\, Arial\, sans-serif\; font-size: 16px\; background-color: rgba(255\, 255\, 255\, 0.37)\;">Swing Dancing at the Coalter Loft<br />\nSunday nights</span>
LOCATION:Coalter Loft 126 E Main St Lander\, WY 82520
UID:e.1258.24125
SEQUENCE:3
DTSTAMP:20260421T091535Z
URL:http://info.landerchamber.org/events/details/sunday-swing-dancing-at-the-coalter-loft-07-21-2019-24125
END:VEVENT

END:VCALENDAR
