BEGIN:VCALENDAR
VERSION:2.0
PRODID:-//ChamberMaster//Event Calendar 2.0//EN
METHOD:PUBLISH
X-PUBLISHED-TTL:P3D
REFRESH-INTERVAL:P3D
CALSCALE:GREGORIAN
BEGIN:VEVENT
DTSTART:20191214T010000Z
DTEND:20191214T023000Z
X-MICROSOFT-CDO-ALLDAYEVENT:FALSE
SUMMARY:State of Equality Film Screening
DESCRIPTION:On the eleventh day of Christmas\, my true love came to me!!\n\n\n\nCome to the Lander Art Center and enjoy "The State of Equality" PBS film screening.
X-ALT-DESC;FMTTYPE=text/html:On the eleventh day of Christmas\, my true love came to me!!<br />\n<br />\nCome to the <strong>Lander Art Center</strong> and enjoy <strong>&quot\;The State of Equality&quot\;</strong>&nbsp\;PBS film screening.&nbsp\;
LOCATION:Lander Art Center 224 Main Street
UID:e.1258.26221
SEQUENCE:3
DTSTAMP:20260419T125148Z
URL:http://info.landerchamber.org/events/details/state-of-equality-film-screening-26221
END:VEVENT

END:VCALENDAR
