BEGIN:VCALENDAR
VERSION:2.0
PRODID:-//ChamberMaster//Event Calendar 2.0//EN
METHOD:PUBLISH
X-PUBLISHED-TTL:P3D
REFRESH-INTERVAL:P3D
CALSCALE:GREGORIAN
BEGIN:VEVENT
DTSTART:20260813T023000Z
DTEND:20260813T040000Z
X-MICROSOFT-CDO-ALLDAYEVENT:FALSE
SUMMARY:Stars of Sinks Canyon State Park
DESCRIPTION:Join Sinks Canyon State Park and University of Wyoming planetarium staff to explore the night sky. Guests of all ages are welcome\, but please leave pets at home. Red light flashlights are encouraged. Download a night sky app like Sky Tonight or Star Tracker before heading into the Canyon. Bring a chair\, snacks\, and beverages. Located at the Sinks Canyon State Park Visitor Center. 8:30-10:00pm. 3018 Sinks Canyon Rd.\, Lander. Free and open to the public.
X-ALT-DESC;FMTTYPE=text/html:<div>\n<div><span style="background-color:transparent\; color:rgb(0\, 0\, 0)\; font-family:arial\,sans-serif\; font-size:11pt">Join Sinks Canyon State Park and University of Wyoming planetarium staff to</span><span style="color:rgb(0\, 0\, 0)\; font-family:arial\,sans-serif\; font-size:14.6667px">&nbsp\;explore the night sky</span><span style="background-color:transparent\; color:rgb(0\, 0\, 0)\; font-family:arial\,sans-serif\; font-size:11pt">. Guests of all ages are welcome\, but please leave pets at home. Red light flashlights are encouraged. Download a night sky app like Sky Tonight or Star Tracker before heading into the Canyon. Bring a chair\, snacks\, and beverages. Located at the Sinks Canyon State Park Visitor Center. 8:30-10:00pm. 3018 Sinks Canyon Rd.\, Lander. Free and open to the public.</span></div>\n</div>\n
LOCATION:Sinks Canyon State Park Visitor Center 3018 Sinks Canyon Road Lander\, WY 82520
UID:e.1258.33447
SEQUENCE:3
DTSTAMP:20260422T020801Z
URL:http://info.landerchamber.org/events/details/stars-of-sinks-canyon-state-park-08-12-2026-33447
END:VEVENT

END:VCALENDAR
