BEGIN:VCALENDAR
VERSION:2.0
PRODID:-//ChamberMaster//Event Calendar 2.0//EN
METHOD:PUBLISH
X-PUBLISHED-TTL:P3D
REFRESH-INTERVAL:P3D
CALSCALE:GREGORIAN
BEGIN:VEVENT
DTSTART:20240116T233000Z
DTEND:20240117T030000Z
X-MICROSOFT-CDO-ALLDAYEVENT:FALSE
SUMMARY:Squaw-Baldwin Planning Meeting
DESCRIPTION:Fremont County\, in partnership with Y2 Consulting\, is seeking input on multi-modal preferences for Squaw Baldwin to determine the future of that loop for all road users. Improvements that increase pedestrian\, dryland skier\, and cyclist safety on those roads will only happen if you provide input and get involved. Please attend if you can\, and encourage others to do the same!
X-ALT-DESC;FMTTYPE=text/html:<span style="font-size:12px\;"><span style="font-family:arial\;"><span style="color: rgb(0\, 0\, 0)\;">Fremont County\, in partnership with Y2 Consulting\, is seeking input on multi-modal preferences for Squaw Baldwin to determine the future of that loop for all road users. Improvements that increase pedestrian\, dryland skier\, and cyclist safety on those roads will only happen if you provide input and get involved. Please attend if you can\, and encourage others to do the same!</span></span></span>
LOCATION:Lander Community & Convention Center
UID:e.1258.30989
SEQUENCE:3
DTSTAMP:20260420T004347Z
URL:http://info.landerchamber.org/events/details/squaw-baldwin-planning-meeting-30989
END:VEVENT

END:VCALENDAR
