BEGIN:VCALENDAR
VERSION:2.0
PRODID:-//ChamberMaster//Event Calendar 2.0//EN
METHOD:PUBLISH
X-PUBLISHED-TTL:P3D
REFRESH-INTERVAL:P3D
CALSCALE:GREGORIAN
BEGIN:VEVENT
DTSTART;VALUE=DATE:20230708
DTEND;VALUE=DATE:20230710
TRANSP:TRANSPARENT
X-MICROSOFT-CDO-ALLDAYEVENT:TRUE
SUMMARY:South Pass City Gold Rush Days
DESCRIPTION:July 8 9 South Pass City Gold Rush Days\n\nPan for gold\, see historic exhibits and gold mining demonstrations\, Pony Express reenactments\, a vintage baseball tournament\, live saloon music and the anvil blasting at the Price Street Bridge every hour on the hour. Gold Rush Days also includes tours of the Carissa Mine & Mill and the opportunity to explore five-miles of interpretive trails. Admission is $5\, kids two and under free. 125 Main St. www.southpasscity.org.
X-ALT-DESC;FMTTYPE=text/html:<p dir="ltr" style="line-height:1.38\;margin-top:5pt\;margin-bottom:0pt\;"><span id="docs-internal-guid-14ec44be-7fff-6b0d-5c26-46b7867f2c23"><span style="font-size: 9.5pt\; font-family: Arial\; color: rgb(0\, 0\, 0)\; background-color: transparent\; font-weight: 700\; font-variant-numeric: normal\; font-variant-east-asian: normal\; font-variant-alternates: normal\; vertical-align: baseline\; white-space-collapse: preserve\;">July 8&ndash\;9 South Pass City</span><span style="font-size: 9.5pt\; font-family: Arial\; color: rgb(0\, 0\, 0)\; background-color: transparent\; font-variant-numeric: normal\; font-variant-east-asian: normal\; font-variant-alternates: normal\; vertical-align: baseline\; white-space-collapse: preserve\;"> <strong>Gold Rush Days</strong><br />\nPan for gold\, see historic exhibits and gold mining demonstrations\, Pony Express reenactments\, a vintage baseball tournament\, live saloon music and the anvil blasting at the Price Street Bridge every hour on the hour. Gold Rush Days also includes tours of the Carissa Mine &amp\; Mill and the opportunity to explore five-miles of interpretive trails. Admission is $5\, kids two and under free. 125 Main St. </span><a href="http://www.southpasscity.org" style="text-decoration-line: none\;"><span style="font-size: 9.5pt\; font-family: Arial\; color: rgb(17\, 85\, 204)\; background-color: transparent\; font-style: italic\; font-variant-numeric: normal\; font-variant-east-asian: normal\; font-variant-alternates: normal\; text-decoration-line: underline\; text-decoration-skip-ink: none\; vertical-align: baseline\; white-space-collapse: preserve\;">www.southpasscity.org</span></a><span style="font-size: 9.5pt\; font-family: Arial\; color: rgb(0\, 0\, 0)\; background-color: transparent\; font-style: italic\; font-variant-numeric: normal\; font-variant-east-asian: normal\; font-variant-alternates: normal\; vertical-align: baseline\; white-space-collapse: preserve\;">.</span></span></p>\n\n<div>&nbsp\;</div>\n
LOCATION:South Pass City State Historic Site
UID:e.1258.30639
SEQUENCE:3
DTSTAMP:20260420T103433Z
URL:http://info.landerchamber.org/events/details/south-pass-city-gold-rush-days-30639
END:VEVENT

END:VCALENDAR
