BEGIN:VCALENDAR
VERSION:2.0
PRODID:-//ChamberMaster//Event Calendar 2.0//EN
METHOD:PUBLISH
X-PUBLISHED-TTL:P3D
REFRESH-INTERVAL:P3D
CALSCALE:GREGORIAN
BEGIN:VEVENT
DTSTART:20191108T003000Z
DTEND:20191108T020000Z
X-MICROSOFT-CDO-ALLDAYEVENT:FALSE
SUMMARY:Social Media for Nonprofits
DESCRIPTION:Social Media for Nonprofits\n\n\n\nFREE Seminar will cover:\n\nContent Creation\n\nScheduling posts\n\nBest practices for Facebook and Instagram\n\n\n\nPresenter\n\nAmanda Sempert\n\nCrava Marketing Solutions\n\n\n\nRegister for this FREE Workshop \n\ncwclander.eventbrite.com
X-ALT-DESC;FMTTYPE=text/html:Social Media for Nonprofits<br />\n<br />\nFREE Seminar will cover:<br />\nContent Creation<br />\nScheduling posts<br />\nBest practices for Facebook and Instagram<br />\n<br />\nPresenter<br />\nAmanda Sempert<br />\nCrava Marketing Solutions<br />\n<br />\nRegister for this FREE Workshop&nbsp\;<br />\ncwclander.eventbrite.com<br />\n&nbsp\;
LOCATION:CWC Lander\, 120 Enterprise Blvd
UID:e.1258.25720
SEQUENCE:3
DTSTAMP:20260420T074515Z
URL:http://info.landerchamber.org/events/details/social-media-for-nonprofits-25720
END:VEVENT

END:VCALENDAR
