BEGIN:VCALENDAR
VERSION:2.0
PRODID:-//ChamberMaster//Event Calendar 2.0//EN
METHOD:PUBLISH
X-PUBLISHED-TTL:P3D
REFRESH-INTERVAL:P3D
CALSCALE:GREGORIAN
BEGIN:VEVENT
DTSTART:20240321T180000Z
DTEND:20240321T180000Z
X-MICROSOFT-CDO-ALLDAYEVENT:FALSE
SUMMARY:Shootout at the Connor Hotel - an eyewitness account
DESCRIPTION:The Shootout at the Connor Hotel\, Laramie\, WY.  Come hear from someone that witnessed this event in real time.   Two people were fatally shot and one person was wounded.
X-ALT-DESC;FMTTYPE=text/html:The Shootout at the Connor Hotel\, Laramie\, WY.&nbsp\; Come hear from someone that witnessed this event in real time.&nbsp\; &nbsp\;Two people were fatally shot and one person was wounded.
LOCATION:Mamaw's Kitchen\, 260 Grand View Drive. Kiwanis Club Meeting
UID:e.1258.31099
SEQUENCE:3
DTSTAMP:20260420T062406Z
URL:http://info.landerchamber.org/events/details/shootout-at-the-connor-hotel-an-eyewitness-account-31099
END:VEVENT

END:VCALENDAR
