BEGIN:VCALENDAR
VERSION:2.0
PRODID:-//ChamberMaster//Event Calendar 2.0//EN
METHOD:PUBLISH
X-PUBLISHED-TTL:P3D
REFRESH-INTERVAL:P3D
CALSCALE:GREGORIAN
BEGIN:VEVENT
DTSTART:20231026T180000Z
DTEND:20231026T190000Z
X-MICROSOFT-CDO-ALLDAYEVENT:FALSE
SUMMARY:SBDC Wyoming APEX Accelerator Lunch & Learn: Doing Business with Idaho National Laboratory
DESCRIPTION:Don't miss this webinar to learn about procurement opportunities with Idaho National Laboratory (INL). INL is one of 17 national laboratories across the US funded by the Department of Energy. INL's Small Business Program Manager\, Stacey Francis\, will discuss INL's vision to build a coalition of small businesses in Wyoming to support the INL mission and the growing opportunity in the clean energy efforts in the region. She will discuss their desire to bolster the supply chain to support such projects and explain what the future may look like\, and steps required to do business with INL. INL's needs are diverse\, from consumables to mechanical and electrical services. Don't miss out on this call to learn about potential opportunities for your business.  For more information visit: The Top 20 Questions About Idaho National Laboratory   Idaho National Laboratory (inl.gov)\n\n\n\nOverview of INL and current missions\n\nINL Procurement Opportunities\n\nHow Wyoming Businesses can assist in bolstering INL's supplier base\n\nHow INL Engages with Small Businesses\n\nSteps required to work with INL\n\n\n\nPresenter: Stacey Francis is the Small Business Program Manager at Idaho National Laboratory (INL) located in Idaho Falls\, Idaho. She is responsible to target\, shape and retain small businesses in support of the diverse mission areas of the laboratory. INL is one of the DOE's 10 multiprogram national laboratories. The lab provides national leadership in the areas of nuclear energy\, national security and sustainable energy research. Ms. Francis has nearly 30 years of experience in building relationships with key stakeholders and partners. She leads small business outreach for the lab and regularly participates in events to promote its mission and share opportunities for small business to engage the lab.  Ms. Francis' depth of experience in marketing local small business and communicating with a variety of internal and external audiences has fostered a successful Small Business Program at INL. Ms. Francis received the Department of Energy Secretarial Award for Facility Management Contractor Small Business Program Manager of the Year for fiscal year 2015. INL received of the Laboratory Director's Award for fiscal year 2017.\n\n\n\nMs. Francis has a BS in Journalism\, Mass Communications from Kansas State University.
X-ALT-DESC;FMTTYPE=text/html:<p style="padding: 0px\; border: 0px\; outline: 0px\; font-size: 14px\; text-size-adjust: 100%\; vertical-align: baseline\; background: transparent\; color: rgb(33\, 33\, 33)\; font-family: Verdana\, Helvetica\, Arial\, Lucida\, sans-serif\; box-sizing: border-box !important\; margin: 0px 0px 25px !important\; line-height: var(--line-height) !important\;">Don&rsquo\;t miss this webinar to learn about procurement opportunities with Idaho National Laboratory (INL). INL is one of 17 national laboratories across the US funded by the Department of Energy. INL&rsquo\;s Small Business Program Manager\, Stacey Francis\, will discuss INL&rsquo\;s vision to build a coalition of small businesses in Wyoming to support the INL mission and the growing opportunity in the clean energy efforts in the region. She will discuss their desire to bolster the supply chain to support such projects and explain what the future may look like\, and steps required to do business with INL. INL&rsquo\;s needs are diverse\, from consumables to mechanical and electrical services. Don&rsquo\;t miss out on this call to learn about potential opportunities for your business.&nbsp\; For more information visit: The Top 20 Questions About Idaho National Laboratory &ndash\; Idaho National Laboratory (inl.gov)<br />\n<br />\nOverview of INL and current missions<br />\nINL Procurement Opportunities<br />\nHow Wyoming Businesses can assist in bolstering INL&rsquo\;s supplier base<br />\nHow INL Engages with Small Businesses<br />\nSteps required to work with INL<br />\n<br />\nPresenter: Stacey Francis is the Small Business Program Manager at Idaho National Laboratory (INL) located in Idaho Falls\, Idaho. She is responsible to target\, shape and retain small businesses in support of the diverse mission areas of the laboratory. INL is one of the DOE&rsquo\;s 10 multiprogram national laboratories. The lab provides national leadership in the areas of nuclear energy\, national security and sustainable energy research. Ms. Francis has nearly 30 years of experience in building relationships with key stakeholders and partners. She leads small business outreach for the lab and regularly participates in events to promote its mission and share opportunities for small business to engage the lab.&nbsp\; Ms. Francis&rsquo\; depth of experience in marketing local small business and communicating with a variety of internal and external audiences has fostered a successful Small Business Program at INL. Ms. Francis received the Department of Energy Secretarial Award for Facility Management Contractor Small Business Program Manager of the Year for fiscal year 2015. INL received of the Laboratory Director&rsquo\;s Award for fiscal year 2017.<br />\n<br />\nMs. Francis has a BS in Journalism\, Mass Communications from Kansas State University.</p>\n
LOCATION:Online
UID:e.1258.30905
SEQUENCE:3
DTSTAMP:20260420T050447Z
URL:http://info.landerchamber.org/events/details/sbdc-wyoming-apex-accelerator-lunch-amp-learn-doing-business-with-idaho-national-laboratory-30905
END:VEVENT

END:VCALENDAR
