BEGIN:VCALENDAR
VERSION:2.0
PRODID:-//ChamberMaster//Event Calendar 2.0//EN
METHOD:PUBLISH
X-PUBLISHED-TTL:P3D
REFRESH-INTERVAL:P3D
CALSCALE:GREGORIAN
BEGIN:VEVENT
DTSTART:20231107T180000Z
DTEND:20231109T190000Z
X-MICROSOFT-CDO-ALLDAYEVENT:FALSE
SUMMARY:SBDC Service to Success: Small Business and Contracting Workshop Series for Veterans
DESCRIPTION:Join us on the 7th to hear from Rick Brown\, Veteran Business Opportunity Center (VBOC)\, Adam Pauli\, Veteran owner of Symmetry Trailers and Dustin Frost\, owner of a Service-Disabled Veteran-Owned Business about the process and resources available for you to start and grow your business.\n\n\n\nOn November 9th we'll be providing information on how to do business with the government (local\, state and federal)\, point you to registrations that can assist you in obtaining federal contracts\, and tell you about the free resources to help you along the way.  We will talk about  federal government sets aside contracts for Service-Disabled Veteran Owned (SDVOSB) and Veteran Owned Small (VOSB) businesses and the certification process through SBA.  Join us to learn how!\n\n\n\nCosponsorship Authorization # 22-45-C. SBA's participation in this Cosponsored Activity is not an endorsement of the views\, opinions\, products or services of any Cosponsor or other person or entity. All SBA programs and services are extended to the public on a nondiscriminatory basis. Reasonable arrangements for persons with disabilities will be made if requested at least two weeks in advance. Contact: Drew James\, (307) 757-5819.\n\n\n\nPresenters: Rick Brown   Veteran Business Opportunity Center (VBOC)\, Dustin Frost   Owner of a Service-Disabled Veteran-Owned Business
X-ALT-DESC;FMTTYPE=text/html:Join us on the 7th to hear from Rick Brown\, Veteran Business Opportunity Center (VBOC)\, Adam Pauli\, Veteran owner of Symmetry Trailers and Dustin Frost\, owner of a Service-Disabled Veteran-Owned Business about the process and resources available for you to start and grow your business.<br />\n<br />\nOn November 9th we&rsquo\;ll be providing information on how to do business with the government (local\, state and federal)\, point you to registrations that can assist you in obtaining federal contracts\, and tell you about the free resources to help you along the way.&nbsp\; We will talk about&nbsp\; federal government sets aside contracts for Service-Disabled Veteran Owned (SDVOSB) and Veteran Owned Small (VOSB) businesses and the certification process through SBA.&nbsp\; Join us to learn how!<br />\n<br />\nCosponsorship Authorization # 22-45-C. SBA&rsquo\;s participation in this Cosponsored Activity is not an endorsement of the views\, opinions\, products or services of any Cosponsor or other person or entity. All SBA programs and services are extended to the public on a nondiscriminatory basis. Reasonable arrangements for persons with disabilities will be made if requested at least two weeks in advance. Contact: Drew James\, (307) 757-5819.<br />\n<br />\nPresenters: Rick Brown &ndash\; Veteran Business Opportunity Center (VBOC)\, Dustin Frost &ndash\; Owner of a Service-Disabled Veteran-Owned Business
LOCATION:Register online: https://uwyo.zoom.us/meeting/register/tJYode6opzIvGNLorvsSiwldwFlGXg-LVxTo#/registration
UID:e.1258.30925
SEQUENCE:3
DTSTAMP:20260420T033057Z
URL:http://info.landerchamber.org/events/details/sbdc-service-to-success-small-business-and-contracting-workshop-series-for-veterans-30925
END:VEVENT

END:VCALENDAR
