BEGIN:VCALENDAR
VERSION:2.0
PRODID:-//ChamberMaster//Event Calendar 2.0//EN
METHOD:PUBLISH
X-PUBLISHED-TTL:P3D
REFRESH-INTERVAL:P3D
CALSCALE:GREGORIAN
BEGIN:VEVENT
DTSTART:20231205T153000Z
DTEND:20231205T190000Z
X-MICROSOFT-CDO-ALLDAYEVENT:FALSE
SUMMARY:SBDC SBIR/STTR Phase I Proposal Prep With Emphasis on the Department of Energy
DESCRIPTION:During this half-day virtual workshop attendees will learn about small business innovation research (SBIR) and small business technology transfer (STTR) opportunities.  Jim Greenwood will provide helpful tips and a recommended process for developing a competitive Phase I proposal. While material is relevant to all SBIR/STTR agencies\, the Department of Energy will be emphasized.\n\n\n\nThere is an opportunity to meet one-on-one for strategy discussions with the presenter\, Jim Greenwood\, Greenwood Consulting Group following today's training from 12:30   3:30. Preference for scheduling one-on-ones will be given to Wyoming small businesses.  Email Haigler@uwyo.edu for one-on-one scheduling.\n\n\n\nPresenter: Jim Greenwood\, Greenwood Consulting Group Inc. Greenwood is a nationally recognized trainer and proposal reviewer for the SBIR and STTR programs. Greenwood taught SBIR/STTR workshops in 48 states plus Puerto Rico and Washington D.C.\, offering training through local and regional economic development groups\, universities\, federal laboratories\, SBDCs and MEPs.
X-ALT-DESC;FMTTYPE=text/html:<p style="padding: 0px\; border: 0px\; outline: 0px\; font-size: 14px\; text-size-adjust: 100%\; vertical-align: baseline\; background: transparent\; color: rgb(33\, 33\, 33)\; font-family: Verdana\, Helvetica\, Arial\, Lucida\, sans-serif\; box-sizing: border-box !important\; margin: 0px 0px 25px !important\; line-height: var(--line-height) !important\;">During this half-day virtual workshop attendees will learn about small business innovation research (SBIR) and small business technology transfer (STTR) opportunities.&nbsp\; Jim Greenwood will provide helpful tips and a recommended process for developing a competitive Phase I proposal. While material is relevant to all SBIR/STTR agencies\, the Department of Energy will be emphasized.<br />\n<br />\nThere is an opportunity to meet one-on-one for strategy discussions with the presenter\, Jim Greenwood\, Greenwood Consulting Group following today&rsquo\;s training from 12:30 &ndash\; 3:30. Preference for scheduling one-on-ones will be given to Wyoming small businesses.&nbsp\; Email Haigler@uwyo.edu for one-on-one scheduling.<br />\n<br />\nPresenter: Jim Greenwood\, Greenwood Consulting Group Inc. Greenwood is a nationally recognized trainer and proposal reviewer for the SBIR and STTR programs. Greenwood taught SBIR/STTR workshops in 48 states plus Puerto Rico and Washington D.C.\, offering training through local and regional economic development groups\, universities\, federal laboratories\, SBDCs and MEPs.</p>\n
LOCATION:Online
UID:e.1258.30936
SEQUENCE:3
DTSTAMP:20260420T021128Z
URL:http://info.landerchamber.org/events/details/sbdc-sbir-sttr-phase-i-proposal-prep-with-emphasis-on-the-department-of-energy-30936
END:VEVENT

END:VCALENDAR
