BEGIN:VCALENDAR
VERSION:2.0
PRODID:-//ChamberMaster//Event Calendar 2.0//EN
METHOD:PUBLISH
X-PUBLISHED-TTL:P3D
REFRESH-INTERVAL:P3D
CALSCALE:GREGORIAN
BEGIN:VEVENT
DTSTART:20231024T160000Z
DTEND:20231025T050000Z
X-MICROSOFT-CDO-ALLDAYEVENT:FALSE
SUMMARY:SBDC Cyber Security for Government Contractors with Project Spectrum and Region 9 APEX Accelerators
DESCRIPTION:Don't miss this webinar to learn more about Project Spectrum (PS)   the comprehensive cybersecurity resource that provides state-of-the-art cybersecurity tools and training aimed toward improving the overall cyber hygiene of the Defense Industrial Base (DIB). In recognition of the financial constraints that small businesses face relative to achieving their desired level of cybersecurity compliance\, Project Spectrum offers all products and services at no cost. A DoD-supported initiative through the Office of Small Business Programs\, Project Spectrum is an invaluable resource to improve cybersecurity hygiene.\n\n\n\nCurrent Cyber Threat Landscape\n\nWhy Small Businesses are Lucrative Targets\n\nGovernment Guidance\, Mandates\, and Requirements (NIST\, CMMC\, DFARS\, etc.)\n\nProject Spectrum's Cyber Advisory Services\n\nProject Spectrum's Training Courses\n\nProject Spectrum's Proprietary Cybersecurity Tool Development\n\nAn Examination of what Happens when You Engage with Project Spectrum\n\n\n\nAfter registering for this webinar\, you will be emailed the access link separately. \n\n\n\nPresenter: Kareem A. Sykes currently serves as Founder/Managing Partner and Director of Program Management and Operations for FTS Consulting Group\, an Engineering and Technical Services firm. Headquartered in Bowie\, Maryland\, as a Minority & Service-Disabled Veteran Owned Small Business\, FTS consists of partners with decades of experience specializing in Fire Protection/Fire Alarm Design/ Engineering\, Construction Management\, HVAC and Security Design Services. FTS' current engagements and portfolio for the commercial space include end clients such as Exelon\, Proctor & Gamble\, Johns Hopkins Applied Physics Laboratory and Siemens to name a few. Additionally\, Mr. Sykes' managerial purview for FTS includes business development and procurement execution efforts within the federal marketplace for end clients such as The Department of Homeland Security (DHS)- United States Secret Service.\n\n\n\nMr. Sykes also manages a program called Project Spectrum\, a U.S. Department of Defense (DoD) recognized cybersecurity awareness initiative that offer resources\, training and tools toward increasing cybersecurity awareness and hygiene for small businesses.
X-ALT-DESC;FMTTYPE=text/html:<p style="padding: 0px\; border: 0px\; outline: 0px\; font-size: 14px\; text-size-adjust: 100%\; vertical-align: baseline\; background: transparent\; color: rgb(33\, 33\, 33)\; font-family: Verdana\, Helvetica\, Arial\, Lucida\, sans-serif\; box-sizing: border-box !important\; margin: 0px 0px 25px !important\; line-height: var(--line-height) !important\;"><span style="font-size:12px\;">Don&rsquo\;t miss this webinar to learn more about Project Spectrum (PS) &ndash\; the comprehensive cybersecurity resource that provides state-of-the-art cybersecurity tools and training aimed toward improving the overall cyber hygiene of the Defense Industrial Base (DIB). In recognition of the financial constraints that small businesses face relative to achieving their desired level of cybersecurity compliance\, Project Spectrum offers all products and services at no cost. A DoD-supported initiative through the Office of Small Business Programs\, Project Spectrum is an invaluable resource to improve cybersecurity hygiene.<br />\n<br />\nCurrent Cyber Threat Landscape<br />\nWhy Small Businesses are Lucrative Targets<br />\nGovernment Guidance\, Mandates\, and Requirements (NIST\, CMMC\, DFARS\, etc.)<br />\nProject Spectrum&rsquo\;s Cyber Advisory Services<br />\nProject Spectrum&rsquo\;s Training Courses<br />\nProject Spectrum&rsquo\;s Proprietary Cybersecurity Tool Development<br />\nAn Examination of what Happens when You Engage with Project Spectrum<br />\n<br />\nAfter registering for this webinar\, you will be emailed the access link separately.&nbsp\;<br />\n<br />\nPresenter: Kareem A. Sykes currently serves as Founder/Managing Partner and Director of Program Management and Operations for FTS Consulting Group\, an Engineering and Technical Services firm. Headquartered in Bowie\, Maryland\, as a Minority &amp\; Service-Disabled Veteran Owned Small Business\, FTS consists of partners with decades of experience specializing in Fire Protection/Fire Alarm Design/ Engineering\, Construction Management\, HVAC and Security Design Services. FTS&rsquo\; current engagements and portfolio for the commercial space include end clients such as Exelon\, Proctor &amp\; Gamble\, Johns Hopkins Applied Physics Laboratory and Siemens to name a few. Additionally\, Mr. Sykes&rsquo\; managerial purview for FTS includes business development and procurement execution efforts within the federal marketplace for end clients such as The Department of Homeland Security (DHS)- United States Secret Service.<br />\n<br />\nMr. Sykes also manages a program called Project Spectrum\, a U.S. Department of Defense (DoD) recognized cybersecurity awareness initiative that offer resources\, training and tools toward increasing cybersecurity awareness and hygiene for small businesses.</span></p>\n
LOCATION:Online
UID:e.1258.30904
SEQUENCE:3
DTSTAMP:20260420T050442Z
URL:http://info.landerchamber.org/events/details/sbdc-cyber-security-for-government-contractors-with-project-spectrum-and-region-9-apex-accelerators-30904
END:VEVENT

END:VCALENDAR
