BEGIN:VCALENDAR
VERSION:2.0
PRODID:-//ChamberMaster//Event Calendar 2.0//EN
METHOD:PUBLISH
X-PUBLISHED-TTL:P3D
REFRESH-INTERVAL:P3D
CALSCALE:GREGORIAN
BEGIN:VEVENT
DTSTART:20231130T180000Z
DTEND:20231130T183000Z
X-MICROSOFT-CDO-ALLDAYEVENT:FALSE
SUMMARY:SBDC Community Navigator Program: Year End Tax Planning
DESCRIPTION:Are you ready for the upcoming tax season? Do you want to learn how to save money and reduce your tax liability? If so\, join us for this free webinar on year-end tax planning. Don't let tax season stress you out. This webinar will show you how to get ready for it with ease. You will learn what documents you need to collect and how to organize them for a smooth meeting with a tax preparer.\n\n\n\nPresenter: Derek Campbell is the Co-Founder of HighPoint CPA. HighPoint CPAs was founded with the merger of CPA Group of Laramie and Capital Clarity Co. in 2022 after having worked closely on mutual clients together over the years.
X-ALT-DESC;FMTTYPE=text/html:<p style="padding: 0px\; border: 0px\; outline: 0px\; font-size: 14px\; text-size-adjust: 100%\; vertical-align: baseline\; background: transparent\; color: rgb(33\, 33\, 33)\; font-family: Verdana\, Helvetica\, Arial\, Lucida\, sans-serif\; box-sizing: border-box !important\; margin: 0px 0px 25px !important\; line-height: var(--line-height) !important\;">Are you ready for the upcoming tax season? Do you want to learn how to save money and reduce your tax liability? If so\, join us for this free webinar on year-end tax planning. Don&rsquo\;t let tax season stress you out. This webinar will show you how to get ready for it with ease. You will learn what documents you need to collect and how to organize them for a smooth meeting with a tax preparer.<br />\n<br />\nPresenter: Derek Campbell is the Co-Founder of HighPoint CPA. HighPoint CPAs was founded with the merger of CPA Group of Laramie and Capital Clarity Co. in 2022 after having worked closely on mutual clients together over the years.</p>\n
LOCATION:Online
UID:e.1258.30929
SEQUENCE:3
DTSTAMP:20260420T032926Z
URL:http://info.landerchamber.org/events/details/sbdc-community-navigator-program-year-end-tax-planning-30929
END:VEVENT

END:VCALENDAR
