BEGIN:VCALENDAR
VERSION:2.0
PRODID:-//ChamberMaster//Event Calendar 2.0//EN
METHOD:PUBLISH
X-PUBLISHED-TTL:P3D
REFRESH-INTERVAL:P3D
CALSCALE:GREGORIAN
BEGIN:VEVENT
DTSTART:20231027T170000Z
DTEND:20231027T183000Z
X-MICROSOFT-CDO-ALLDAYEVENT:FALSE
SUMMARY:SBDC Community Navigator Program: Make the Most of Your Holiday Sales – Holiday Offers\, Ads & Marketing Funnels
DESCRIPTION:Small Business Saturday is right around the corner! If you have a small business\, you won't want to miss this. Join the Wyoming Community Navigator Program for an engaging webinar where you will learn to build anticipation and a pipeline of potential customers eager to purchase from you on during this upcoming holiday season. You'll get tips for creating a memorable experience for your customers during and immediately following the sale. As well as ways to delight and keep your customers coming back!\n\n\n\nPresenter: Liz holds a bachelor's degree in Linguistics and a Master's degree in Educational Leadership\, specializing in Experiential Education. She has been coaching\, facilitating\, and training in a variety of environments for decades\, including as a Washington Small Business Development Center Certified Business Advisor\, Business Coach and Program Director for an SBA Women's Business Center\, and as Manager of Corporate Training and Continuing Education for a Technical College.\n\n\n\nLiz Jamieson owned a web site design and development firm for many years\, where she began to coach entrepreneurs in branding\, sales and marketing. There\, she worked on the online presence\, collateral and copy for over 100 different small businesses. She cold called entire Chamber of Commerce directories\, to build her own business. Liz is strong in technical online marketing\, loan packaging\, business planning and development\, social media and more.
X-ALT-DESC;FMTTYPE=text/html:<p style="padding: 0px\; border: 0px\; outline: 0px\; font-size: 14px\; text-size-adjust: 100%\; vertical-align: baseline\; background: transparent\; color: rgb(33\, 33\, 33)\; font-family: Verdana\, Helvetica\, Arial\, Lucida\, sans-serif\; box-sizing: border-box !important\; margin: 0px 0px 25px !important\; line-height: var(--line-height) !important\;">Small Business Saturday is right around the corner! If you have a small business\, you won&rsquo\;t want to miss this. Join the Wyoming Community Navigator Program for an engaging webinar where you will learn to build anticipation and a pipeline of potential customers eager to purchase from you on during this upcoming holiday season. You&rsquo\;ll get tips for creating a memorable experience for your customers during and immediately following the sale. As well as ways to delight and keep your customers coming back!<br />\n<br />\nPresenter: Liz holds a bachelor&rsquo\;s degree in Linguistics and a Master&rsquo\;s degree in Educational Leadership\, specializing in Experiential Education. She has been coaching\, facilitating\, and training in a variety of environments for decades\, including as a Washington Small Business Development Center Certified Business Advisor\, Business Coach and Program Director for an SBA Women&rsquo\;s Business Center\, and as Manager of Corporate Training and Continuing Education for a Technical College.<br />\n<br />\nLiz Jamieson owned a web site design and development firm for many years\, where she began to coach entrepreneurs in branding\, sales and marketing. There\, she worked on the online presence\, collateral and copy for over 100 different small businesses. She cold called entire Chamber of Commerce directories\, to build her own business. Liz is strong in technical online marketing\, loan packaging\, business planning and development\, social media and more.</p>\n
LOCATION:Online
UID:e.1258.30907
SEQUENCE:3
DTSTAMP:20260420T050845Z
URL:http://info.landerchamber.org/events/details/sbdc-community-navigator-program-make-the-most-of-your-holiday-sales-holiday-offers-ads-amp-marketing-funnels-30907
END:VEVENT

END:VCALENDAR
