BEGIN:VCALENDAR
VERSION:2.0
PRODID:-//ChamberMaster//Event Calendar 2.0//EN
METHOD:PUBLISH
X-PUBLISHED-TTL:P3D
REFRESH-INTERVAL:P3D
CALSCALE:GREGORIAN
BEGIN:VEVENT
DTSTART:20231026T200000Z
DTEND:20231026T210000Z
X-MICROSOFT-CDO-ALLDAYEVENT:FALSE
SUMMARY:SBDC Business Fitness Webinar: Fraud and Cyber Protection for Under $500
DESCRIPTION:Small businesses are increasingly becoming targets for fraud and cyber attacks. In today's digital age\, protecting sensitive information and financial transactions is more important than ever. The costs of a security breach can be significant\, from loss of customers' trust to financial loss. In this presentation\, attendees will learn how to protect their businesses from these threats while minimizing costs and utilizing the free or low-cost solutions that exist. It will provide practical\, actionable insights and tips for small business owners to protect their operations.\n\n\n\nPresenter: Jim Drever\, the Regional Director in South Central Wyoming for the Wyoming SBDC\, has served clients in the area for over a decade. Before joining the Wyoming Small Business Development Center team\, he was a Marketing Director and Project Manager at a software company\, had a small consulting business and recently cofounded CyberWyoming with the Made Safe in Wyoming program. He has been a source for cybersecurity for small businesses in the Wall Street Journal and presented on the topic at national conferences.  Beyond general business assistance\, Jim specializes in E-Marketing/E-Commerce\, and Risk Management\, especially Cybersecurity in which he is a Certified Ethical Hacker (CEH) and has a CISO Specialist certification with a background in vulnerability assessment\, ethical hacking\, and cybersecurity risk assessment & management. He assists and advises clients with cybersecurity statewide.
X-ALT-DESC;FMTTYPE=text/html:<p style="padding: 0px\; border: 0px\; outline: 0px\; font-size: 14px\; text-size-adjust: 100%\; vertical-align: baseline\; background: transparent\; color: rgb(33\, 33\, 33)\; font-family: Verdana\, Helvetica\, Arial\, Lucida\, sans-serif\; box-sizing: border-box !important\; margin: 0px 0px 25px !important\; line-height: var(--line-height) !important\;">Small businesses are increasingly becoming targets for fraud and cyber attacks. In today&rsquo\;s digital age\, protecting sensitive information and financial transactions is more important than ever. The costs of a security breach can be significant\, from loss of customers&rsquo\; trust to financial loss. In this presentation\, attendees will learn how to protect their businesses from these threats while minimizing costs and utilizing the free or low-cost solutions that exist. It will provide practical\, actionable insights and tips for small business owners to protect their operations.<br />\n<br />\nPresenter: Jim Drever\, the Regional Director in South Central Wyoming for the Wyoming SBDC\, has served clients in the area for over a decade. Before joining the Wyoming Small Business Development Center team\, he was a Marketing Director and Project Manager at a software company\, had a small consulting business and recently cofounded CyberWyoming with the Made Safe in Wyoming program. He has been a source for cybersecurity for small businesses in the Wall Street Journal and presented on the topic at national conferences.&nbsp\; Beyond general business assistance\, Jim specializes in E-Marketing/E-Commerce\, and Risk Management\, especially Cybersecurity in which he is a Certified Ethical Hacker (CEH) and has a CISO Specialist certification with a background in vulnerability assessment\, ethical hacking\, and cybersecurity risk assessment &amp\; management. He assists and advises clients with cybersecurity statewide.</p>\n
LOCATION:Online
UID:e.1258.30906
SEQUENCE:3
DTSTAMP:20260420T050856Z
URL:http://info.landerchamber.org/events/details/sbdc-business-fitness-webinar-fraud-and-cyber-protection-for-under-500-30906
END:VEVENT

END:VCALENDAR
