BEGIN:VCALENDAR
VERSION:2.0
PRODID:-//ChamberMaster//Event Calendar 2.0//EN
METHOD:PUBLISH
X-PUBLISHED-TTL:P3D
REFRESH-INTERVAL:P3D
CALSCALE:GREGORIAN
BEGIN:VEVENT
DTSTART:20190921T140000Z
DTEND:20190921T180000Z
X-MICROSOFT-CDO-ALLDAYEVENT:FALSE
SUMMARY:Run Like a Bighorn
DESCRIPTION:Join Sinks Canyon State Park and the WyoClimbers in the annual Run Like a Bighorn "almost 10k" race.\n\nBegin at the Sawmill Campground and run through the Park ending near the Visitor Center. Family friendly! Run\, walk\, saunter...however you want to get it done. Enjoy the beauty of your public lands!\n\n\n\nRegistration begins at 7:00am at the Sawmill Shelter.\n\nRace begins at 8:00am.\n\n\n\n$25 for adults\, $10 for youth 13 and under.
X-ALT-DESC;FMTTYPE=text/html:<span style="color: rgb(29\, 33\, 41)\; font-family: Helvetica\, Arial\, sans-serif\; font-size: 14px\; white-space: pre-wrap\;">Join Sinks Canyon State Park and the WyoClimbers in the annual Run Like a Bighorn &quot\;almost 10k&quot\; race.<br />\nBegin at the Sawmill Campground and run through the Park ending near the Visitor Center. Family friendly! Run\, walk\, saunter...however you want to get it done. Enjoy the beauty of your public lands!</span><br style="color: rgb(29\, 33\, 41)\; font-family: Helvetica\, Arial\, sans-serif\; font-size: 14px\; white-space: pre-wrap\;" />\n<br style="color: rgb(29\, 33\, 41)\; font-family: Helvetica\, Arial\, sans-serif\; font-size: 14px\; white-space: pre-wrap\;" />\n<span style="color: rgb(29\, 33\, 41)\; font-family: Helvetica\, Arial\, sans-serif\; font-size: 14px\; white-space: pre-wrap\;">Registration begins at 7:00am at the Sawmill Shelter.<br />\nRace begins at 8:00am.</span><br />\n<br style="color: rgb(29\, 33\, 41)\; font-family: Helvetica\, Arial\, sans-serif\; font-size: 14px\; white-space: pre-wrap\;" />\n<span style="color: rgb(29\, 33\, 41)\; font-family: Helvetica\, Arial\, sans-serif\; font-size: 14px\; white-space: pre-wrap\;">$25 for adults\, $10 for youth 13 and under.</span>
LOCATION:Sawmill Campground Sinks Canyon State Park Lander\, WY
UID:e.1258.24598
SEQUENCE:3
DTSTAMP:20260425T005028Z
URL:http://info.landerchamber.org/events/details/run-like-a-bighorn-24598
END:VEVENT

END:VCALENDAR
