BEGIN:VCALENDAR
VERSION:2.0
PRODID:-//ChamberMaster//Event Calendar 2.0//EN
METHOD:PUBLISH
X-PUBLISHED-TTL:P3D
REFRESH-INTERVAL:P3D
CALSCALE:GREGORIAN
BEGIN:VEVENT
DTSTART;VALUE=DATE:20230301
DTEND;VALUE=DATE:20230302
TRANSP:TRANSPARENT
X-MICROSOFT-CDO-ALLDAYEVENT:TRUE
SUMMARY:Register for Wyoming's 2023 Cybersecurity Competition for Small Business
DESCRIPTION:Find out what it's all about! Register today at www.cyberwyoming.org/competition/ Open to all Wyoming small businesses.\n\n\n\nBecause your computer didn't come with a security manual.\n\n\n\nRegister now through May 1\, but remember that early registrants make more progress and can work at a more leisurely pace.\n\nCompetition Dates: Feb 1 - Aug 1\n\nNow offering up to 35 CLE or CPE credits\n\nWinners speak at Wyoming and Northern Colorado's Cybersecurity Conference\, tentatively scheduled for August 24 & 25 in fun Ft. Collins\, CO!\n\n\n\nOne-on-one\, on-the-job\, human-focused risk management to protect your company's information. Entry fee $100 for 25-35 hours of training and to fund the winners' cash prizes! Register at www.cyberwyoming.org/competition/
X-ALT-DESC;FMTTYPE=text/html:<span style="color:rgb(13\, 13\, 13)\; font-family:roboto\,noto\,sans-serif\; font-size:15px">Find out what it&#39\;s all about! Register today at www.cyberwyoming.org/competition/ Open to all Wyoming small businesses.<br />\n<br />\n<em>Because your computer didn&#39\;t come with a security manual.</em><br />\n<br />\nRegister now through May 1\, but remember that early registrants make more progress and can work at a more leisurely pace.<br />\nCompetition Dates: Feb 1 - Aug 1<br />\nNow offering up to 35 CLE or CPE credits<br />\nWinners speak at Wyoming and Northern Colorado&#39\;s Cybersecurity Conference\, tentatively scheduled for August 24 &amp\; 25 in fun Ft. Collins\, CO!<br />\n<br />\nOne-on-one\, on-the-job\, human-focused risk management to protect your company&#39\;s information. Entry fee $100 for 25-35 hours of training and to fund the winners&rsquo\; cash prizes! Register at www.cyberwyoming.org/competition/</span>
LOCATION:Virtual
UID:e.1258.29945
SEQUENCE:3
DTSTAMP:20260422T124618Z
URL:http://info.landerchamber.org/events/details/register-for-wyoming-s-2023-cybersecurity-competition-for-small-business-03-01-2023-29945
END:VEVENT

END:VCALENDAR
