BEGIN:VCALENDAR
VERSION:2.0
PRODID:-//ChamberMaster//Event Calendar 2.0//EN
METHOD:PUBLISH
X-PUBLISHED-TTL:P3D
REFRESH-INTERVAL:P3D
CALSCALE:GREGORIAN
BEGIN:VEVENT
DTSTART:20190928T010000Z
DTEND:20190928T020000Z
X-MICROSOFT-CDO-ALLDAYEVENT:FALSE
SUMMARY:Poldark Premiere at the Lander Library
DESCRIPTION:Poldark \n\nSeason 5 Premiere \n\nat the Lander Library Friday\, September 27 at 7pm
X-ALT-DESC;FMTTYPE=text/html:Poldark&nbsp\;<br />\nSeason 5 Premiere&nbsp\;<br />\nat the Lander Library Friday\, September 27 at 7pm<br />\n<br />\n&nbsp\;
LOCATION:201 Amoiretti Lander Library
UID:e.1258.25352
SEQUENCE:3
DTSTAMP:20260425T005027Z
URL:http://info.landerchamber.org/events/details/poldark-premiere-at-the-lander-library-25352
END:VEVENT

END:VCALENDAR
