BEGIN:VCALENDAR
VERSION:2.0
PRODID:-//ChamberMaster//Event Calendar 2.0//EN
METHOD:PUBLISH
X-PUBLISHED-TTL:P3D
REFRESH-INTERVAL:P3D
CALSCALE:GREGORIAN
BEGIN:VEVENT
DTSTART;VALUE=DATE:20190912
DTEND;VALUE=DATE:20190916
TRANSP:TRANSPARENT
X-MICROSOFT-CDO-ALLDAYEVENT:TRUE
SUMMARY:Plein Air in the Parks: Painting Competition at Sinks Canyon
DESCRIPTION:Plein Air in the Parks is a collaborative weekend event presented by Wyoming State Parks\, the Wyoming Arts Council\, and the Lander Art Center. Taking place this September at Sinks Canyon State Park\, this painting competition pairs talented artists with beautiful locations\, and offers cash prizes to top participants. The competition will be judged anonymously by a panel comprised those with an arts background\, representatives from the community\, and individuals familiar with Sinks Canyon State Park. The Best in Show Cash Award will be $1\,000\, while 2nd and 3rd place prizes go for $500 and $250 respectively. The public is invited to attend a reception on Sunday\, Sept.15 and cast their vote for the People's Choice Award\, a $250 cash award\, and to purchase artwork produced during the event Prizes for youth categories include a cash award and gift cards to the Lander Art Center. Artists will also have the option of selling pieces produced at the event during the reception.
X-ALT-DESC;FMTTYPE=text/html:<div class="g-group l-lg-mar-bot-6 l-md-mar-bot-4 l-pad-bot-6 " style="margin: 0px 0px 30px\; padding: 0px 0px 30px\; font-size: 0px\; letter-spacing: 0px\; color: rgb(57\, 54\, 79)\; font-family: &quot\;Neue Plak&quot\;\, -apple-system\, BlinkMacSystemFont\, Roboto\, &quot\;Helvetica Neue&quot\;\, Helvetica\, Tahoma\, Arial\, sans-serif\;">\n<div class="g-cell g-cell-10-12 g-cell-md-1-1" style="margin: 0px\; padding: 0px 15px\; width: 560px\; box-sizing: border-box\; display: inline-block\; overflow: hidden\; vertical-align: top\; letter-spacing: 0.5px\; font-size: 0.933333rem\; line-height: 1.25rem\;">\n<div class="has-user-generated-content js-d-read-more read-more js-read-more read-more--medium-down read-more--expanded" data-xd-wired="read-more" dorsal-guid="6f21d05a-b116-2148-f343-a75636fb0217" style="margin: 0px\; padding: 0px\;">\n<div class="js-xd-read-more-toggle-view read-more__toggle-view" style="margin: 0px\; padding: 0px\; overflow: hidden\; position: relative\; overflow-wrap: break-word\;">\n<div class="js-xd-read-more-contents l-mar-top-3" data-automation="listing-event-description" style="margin: 15px 0px 0px\; padding: 0px\;">\n<p style="margin: 0px\; padding: 0px\; color: rgb(111\, 114\, 135)\;"><span style="padding-top: 0px\;">Plein Air in the Parks is a collaborative weekend event presented by Wyoming State Parks\, the Wyoming Arts Council\, and the Lander Art Center. Taking place this September at Sinks Canyon State Park\, this painting competition pairs talented artists with beautiful locations\, and offers cash prizes to top participants.&nbsp\;<span style="padding-top: 0px\;">The competition will be judged anonymously by a panel comprised those with an arts background\, representatives from the community\, and individuals familiar with Sinks Canyon State Park. The Best in Show Cash Award will be $1\,000\, while 2nd and 3rd place prizes go for $500 and $250 respectively.&nbsp\;</span></span>The public is invited to attend a reception on Sunday\, Sept.15 and cast their vote for the People&rsquo\;s Choice Award\, a $250 cash award\, and to purchase artwork produced during the event Prizes for youth categories include a cash award and gift cards to the Lander Art Center. Artists will also have the option of selling pieces produced at the event during the reception.</p>\n\n<div>&nbsp\;</div>\n</div>\n</div>\n</div>\n</div>\n</div>\n\n<div class="g-group" style="margin: 0px\; padding: 0px\; font-size: 0px\; letter-spacing: 0px\; color: rgb(57\, 54\, 79)\; font-family: &quot\;Neue Plak&quot\;\, -apple-system\, BlinkMacSystemFont\, Roboto\, &quot\;Helvetica Neue&quot\;\, Helvetica\, Tahoma\, Arial\, sans-serif\;">\n<div class="g-cell g-cell-10-12 g-cell-md-12-12" style="margin: 0px\; padding: 0px 15px\; width: 560px\; box-sizing: border-box\; display: inline-block\; overflow: hidden\; vertical-align: top\; letter-spacing: 0.5px\; font-size: 0.933333rem\; line-height: 1.25rem\;">\n<div class="listing-info__footer clrfix" style="margin: 0px\; padding: 0px\; position: relative\;">\n<div class="share-wrapper l-sm-mar-bot-4" style="margin: 0px\; padding: 0px\; float: left\;">&nbsp\;</div>\n</div>\n</div>\n</div>\n
LOCATION:Sinks Canyon State Park 3079 Sinks Canyon Road Lander\, WY 82520 View Map
UID:e.1258.24597
SEQUENCE:3
DTSTAMP:20260425T005752Z
URL:http://info.landerchamber.org/events/details/plein-air-in-the-parks-painting-competition-at-sinks-canyon-24597
END:VEVENT

END:VCALENDAR
