BEGIN:VCALENDAR
VERSION:2.0
PRODID:-//ChamberMaster//Event Calendar 2.0//EN
METHOD:PUBLISH
X-PUBLISHED-TTL:P3D
REFRESH-INTERVAL:P3D
CALSCALE:GREGORIAN
BEGIN:VEVENT
DTSTART:20191115T003000Z
DTEND:20191115T020000Z
X-MICROSOFT-CDO-ALLDAYEVENT:FALSE
SUMMARY:Nonprofit Finance & Bookkeeping
DESCRIPTION:Nonprofit Finance & Bookkeeping\n\n\n\nThis FREE Workshop will address the essentials of financial records and bookkeeping for both new and established nonprofit organizations\n\n\n\nPresenter:\n\nLorielle Morton\, Partner\; Fagnant\, Lewis& Brinda\, P.C
X-ALT-DESC;FMTTYPE=text/html:Nonprofit Finance &amp\; Bookkeeping<br />\n<br />\nThis FREE Workshop will address the essentials of financial records and bookkeeping for both new and established nonprofit organizations<br />\n<br />\nPresenter:<br />\nLorielle Morton\, Partner\; Fagnant\, Lewis&amp\; Brinda\, P.C
LOCATION:CWC Lander\, 120 Enterprise Blvd.
UID:e.1258.25721
SEQUENCE:3
DTSTAMP:20260421T102014Z
URL:http://info.landerchamber.org/events/details/nonprofit-finance-bookkeeping-25721
END:VEVENT

END:VCALENDAR
