BEGIN:VCALENDAR
VERSION:2.0
PRODID:-//ChamberMaster//Event Calendar 2.0//EN
METHOD:PUBLISH
X-PUBLISHED-TTL:P3D
REFRESH-INTERVAL:P3D
CALSCALE:GREGORIAN
BEGIN:VEVENT
DTSTART:20200101T040000Z
DTEND:20200101T071500Z
X-MICROSOFT-CDO-ALLDAYEVENT:FALSE
SUMMARY:New Years Eve 2020 Celebration
DESCRIPTION:New Year's Eve 2020 Celebration \n\nTuesday December 31\, 2019 through Jan 1\, 2020\n\nBeginning December 1st all guests earning 50 points will get an entry in our New Year's Eve Drawing Virtual Barrel. Prizes will include $2020 in Cash Drawings and a brand new snowmobile with trailer following the midnight fireworks show. Ring in the new year at Shoshone Rose!
X-ALT-DESC;FMTTYPE=text/html:<strong>New Year&rsquo\;s Eve 2020 Celebration </strong><br />\nTuesday December 31\, 2019 through Jan 1\, 2020<br />\nBeginning December 1<sup>st</sup> all guests earning 50 points will get an entry in our New Year&rsquo\;s Eve Drawing Virtual Barrel. Prizes will include $2020 in Cash Drawings and a brand new snowmobile with trailer following the midnight fireworks show. Ring in the new year at Shoshone Rose!
LOCATION:Shoshone Rose Casino & Hotel
UID:e.1258.26188
SEQUENCE:3
DTSTAMP:20260423T065714Z
URL:http://info.landerchamber.org/events/details/new-years-eve-2020-celebration-26188
END:VEVENT

END:VCALENDAR
