BEGIN:VCALENDAR
VERSION:2.0
PRODID:-//ChamberMaster//Event Calendar 2.0//EN
METHOD:PUBLISH
X-PUBLISHED-TTL:P3D
REFRESH-INTERVAL:P3D
CALSCALE:GREGORIAN
BEGIN:VEVENT
DTSTART:20230809T220000Z
DTEND:20230811T010000Z
X-MICROSOFT-CDO-ALLDAYEVENT:FALSE
SUMMARY:New location open house - Students! Get your sports physicals\, too!
DESCRIPTION:New Location Open House! \n\nStudents\, get your sports physicals on Wednesday and Thursday\, August 9 and 10\, 4-7 pm at the new location of Community Health Centers of Central Wyoming.\n\nEnjoy drinks\, snacks\, a tour of the new facility\, and cool swag!\n\n \n\nAppointments are required\, so call today\, 307-332-2185. New patients are welcome! \n\n8185 Hwy 789 (formerly Steamboat Orthopedics)\, Lander
X-ALT-DESC;FMTTYPE=text/html:<div style="color: rgb(34\, 34\, 34)\; font-family: Arial\, Helvetica\, sans-serif\; font-size: small\;"><b>New Location Open House!</b>&nbsp\;</div>\n\n<div style="color: rgb(34\, 34\, 34)\; font-family: Arial\, Helvetica\, sans-serif\; font-size: small\;">Students\, get&nbsp\;your&nbsp\;<b><u>sports physicals</u></b>&nbsp\;on Wednesday and Thursday\, August 9 and 10\, 4-7 pm at the new location of <u><em><strong>Community Health Centers of Central Wyoming</strong></em></u>.</div>\n\n<div style="color: rgb(34\, 34\, 34)\; font-family: Arial\, Helvetica\, sans-serif\; font-size: small\;">Enjoy drinks\, snacks\, a tour of the new facility\, and cool swag!<br />\n&nbsp\;</div>\n\n<div style="color: rgb(34\, 34\, 34)\; font-family: Arial\, Helvetica\, sans-serif\; font-size: small\;">Appointments are required\, so call today\, 307-332-2185. New patients are welcome!&nbsp\;</div>\n\n<div style="color: rgb(34\, 34\, 34)\; font-family: Arial\, Helvetica\, sans-serif\; font-size: small\;">8185 Hwy 789 (formerly Steamboat Orthopedics)\, Lander</div>\n
LOCATION:Community Health Centers of Central Wyoming New location 8185 Hwy 789 (formerly Steamboat Orthopedics)
UID:e.1258.30685
SEQUENCE:3
DTSTAMP:20260420T092008Z
URL:http://info.landerchamber.org/events/details/new-location-open-house-students-get-your-sports-physicals-too-30685
END:VEVENT

END:VCALENDAR
