BEGIN:VCALENDAR
VERSION:2.0
PRODID:-//ChamberMaster//Event Calendar 2.0//EN
METHOD:PUBLISH
X-PUBLISHED-TTL:P3D
REFRESH-INTERVAL:P3D
CALSCALE:GREGORIAN
BEGIN:VEVENT
DTSTART:20231027T173000Z
DTEND:20231027T200000Z
X-MICROSOFT-CDO-ALLDAYEVENT:FALSE
SUMMARY:Marketing and Small Business Training Workshop
DESCRIPTION:The Wind River Development Fund is hosting a marketing and small business training workshop this Friday\, October 27. This free event geared to small businesses and entrepreneurs will be held from 11:30 a.m. to 2:30 p.m. at the Frank B. Wise Building (#3 Ethete Road in Fort Washakie).\n\nThe training will focus on marketing\, social media and how to attract business and promote your business.\n\nClass hosts encourage attendees to bring their personal computers if possible.\n\nFor more information please contact shila@wrdf.org or call 307-335-7330.
X-ALT-DESC;FMTTYPE=text/html:<p style="box-sizing: border-box\; margin: 0px auto 26px\; overflow-wrap: break-word\; color: rgb(34\, 34\, 34)\; font-family: Verdana\, BlinkMacSystemFont\, -apple-system\, &quot\;segoe ui&quot\;\, Roboto\, Oxygen\, Ubuntu\, Cantarell\, &quot\;open sans&quot\;\, &quot\;helvetica neue&quot\;\, sans-serif\; font-size: 15px\;">The&nbsp\;<a href="http://wrdf.org/" style="box-sizing: border-box\; background-color: transparent\; color: var(--td_theme_color\,#4db2ec)\; text-decoration-line: none\; pointer-events: auto\;">Wind River Development Fund</a>&nbsp\;is hosting a marketing and small business training workshop this Friday\, October 27. This free event geared to small businesses and entrepreneurs will be held from 11:30 a.m. to 2:30 p.m. at the Frank B. Wise Building (#3 Ethete Road in Fort Washakie).</p>\n\n<p style="box-sizing: border-box\; margin: 0px auto 26px\; overflow-wrap: break-word\; color: rgb(34\, 34\, 34)\; font-family: Verdana\, BlinkMacSystemFont\, -apple-system\, &quot\;segoe ui&quot\;\, Roboto\, Oxygen\, Ubuntu\, Cantarell\, &quot\;open sans&quot\;\, &quot\;helvetica neue&quot\;\, sans-serif\; font-size: 15px\;">The training will focus on marketing\, social media and how to attract business and promote your business.</p>\n\n<p style="box-sizing: border-box\; margin: 0px auto 26px\; overflow-wrap: break-word\; color: rgb(34\, 34\, 34)\; font-family: Verdana\, BlinkMacSystemFont\, -apple-system\, &quot\;segoe ui&quot\;\, Roboto\, Oxygen\, Ubuntu\, Cantarell\, &quot\;open sans&quot\;\, &quot\;helvetica neue&quot\;\, sans-serif\; font-size: 15px\;">Class hosts encourage attendees to bring their personal computers if possible.</p>\n\n<p style="box-sizing: border-box\; margin: 0px auto 26px\; overflow-wrap: break-word\; color: rgb(34\, 34\, 34)\; font-family: Verdana\, BlinkMacSystemFont\, -apple-system\, &quot\;segoe ui&quot\;\, Roboto\, Oxygen\, Ubuntu\, Cantarell\, &quot\;open sans&quot\;\, &quot\;helvetica neue&quot\;\, sans-serif\; font-size: 15px\;">For more information please contact&nbsp\;<a href="mailto:shila@wrdf.org" style="box-sizing: border-box\; background-color: transparent\; color: var(--td_theme_color\,#4db2ec)\; text-decoration-line: none\; pointer-events: auto\;">shila@wrdf.org</a>&nbsp\;or call 307-335-7330.</p>\n
LOCATION:Frank B. Wise Building #3 Ethete Road Fort Washakie\, WY
UID:e.1258.30921
SEQUENCE:3
DTSTAMP:20260420T050143Z
URL:http://info.landerchamber.org/events/details/marketing-and-small-business-training-workshop-30921
END:VEVENT

END:VCALENDAR
