BEGIN:VCALENDAR
VERSION:2.0
PRODID:-//ChamberMaster//Event Calendar 2.0//EN
METHOD:PUBLISH
X-PUBLISHED-TTL:P3D
REFRESH-INTERVAL:P3D
CALSCALE:GREGORIAN
BEGIN:VEVENT
DTSTART:20220910T150000Z
DTEND:20220910T173000Z
X-MICROSOFT-CDO-ALLDAYEVENT:FALSE
SUMMARY:Lander Valley Farmers' Market\, plus more!
DESCRIPTION:The Lander Valley Farmers' Market is every Saturday\, 9-11:30 am\, at Lander City Park\, 405 Fremont Street.\n\nEnjoy all the freshest produce\, fruits and so much more!\n\n\n\nOther Farmers' Markets in the area:\n\nDubois\, 202 E. Ramshorn St.\, every Thursday\, 4-6 pm\n\nRiverton\, 901 E. Fremont Ave.\, every Wednesday\, 5-7 pm\n\nShoshoni\, 108 Main St.\, every Friday\, 5-7 pm\n\nWind River Farmers' Market\, Frank B. Wise Business Center\, 3 Ethete Road\, Fort Washakie\, every Thursday\, 4:30-6:30 pm
X-ALT-DESC;FMTTYPE=text/html:The <strong>Lander Valley Farmers&#39\; Market</strong> is every Saturday\, 9-11:30 am\, at Lander City Park\, 405 Fremont Street.<br />\nEnjoy all the freshest produce\, fruits and so much more!<br />\n<br />\nOther Farmers&#39\; Markets in the area:<br />\nDubois\, 202 E. Ramshorn St.\, every Thursday\, 4-6 pm<br />\nRiverton\, 901 E. Fremont Ave.\, every Wednesday\, 5-7 pm<br />\nShoshoni\, 108 Main St.\, every Friday\, 5-7 pm<br />\nWind River Farmers&#39\; Market\, Frank B. Wise Business Center\, 3 Ethete Road\, Fort Washakie\, every Thursday\, 4:30-6:30 pm
LOCATION:Lander City Park\, 405 Fremont St.
UID:e.1258.29123
SEQUENCE:3
DTSTAMP:20260421T163415Z
URL:http://info.landerchamber.org/events/details/local-farmers-markets-09-10-2022-29123
END:VEVENT

END:VCALENDAR
