BEGIN:VCALENDAR
VERSION:2.0
PRODID:-//ChamberMaster//Event Calendar 2.0//EN
METHOD:PUBLISH
X-PUBLISHED-TTL:P3D
REFRESH-INTERVAL:P3D
CALSCALE:GREGORIAN
BEGIN:VEVENT
DTSTART:20231220T020000Z
DTEND:20231220T030000Z
X-MICROSOFT-CDO-ALLDAYEVENT:FALSE
SUMMARY:LMS Winter Band Concert
DESCRIPTION:
X-ALT-DESC;FMTTYPE=text/html:
LOCATION:
UID:e.1258.30939
SEQUENCE:3
DTSTAMP:20260420T020826Z
URL:http://info.landerchamber.org/events/details/lms-winter-band-concert-30939
END:VEVENT

END:VCALENDAR
