BEGIN:VCALENDAR
VERSION:2.0
PRODID:-//ChamberMaster//Event Calendar 2.0//EN
METHOD:PUBLISH
X-PUBLISHED-TTL:P3D
REFRESH-INTERVAL:P3D
CALSCALE:GREGORIAN
BEGIN:VEVENT
DTSTART;VALUE=DATE:20240313
DTEND;VALUE=DATE:20240315
TRANSP:TRANSPARENT
X-MICROSOFT-CDO-ALLDAYEVENT:TRUE
SUMMARY:Lean Manufacturing with Cedro Toro (Riverton)
DESCRIPTION:Leal Manufacturing with Cedro Toro of Purple Mattress\n\nThis 2-day program is designed for business leaders to set and reach goals through continuous improvement.\n\n\n	Day 1 - Lean Essentials Course\n	Day 2 - Where structured problem-solving comprises a Lean Six Sigma Yellow Belt\n\n\nCedro Toro is a entrepreneur and management coach with a passion for helping leaders like you create a culture of continuous improvement. As Vice President of Manufacturing for Purple Mattress\, Cedro tripled production output\, earning the company the  Manufacturer of the Year award. As President of Lean Six Sigma Toolbox\, Cedro has worked with Fortune 500 companies like Walmart and Tesla\, as well as local\n\nfamily run businesses\, helping them create effective strategies and achieve breakthrough results. Cedro holds a bachelor's degree in Electrical Engineering from the University of Utah and MBA from Idaho State University.\n\n\n\nSponsored by the Wyoming Innovation Program (WIP). Limited seating is available.
X-ALT-DESC;FMTTYPE=text/html:<p><em><strong>Leal Manufacturing with Cedro Toro of Purple Mattress</strong></em></p>\n\n<p>This 2-day program is designed for business leaders&nbsp\;to set and reach goals through continuous improvement.</p>\n\n<ul>\n	<li>Day 1 - Lean Essentials Course</li>\n	<li>Day 2 - Where structured problem-solving comprises a Lean Six&nbsp\;Sigma Yellow Belt</li>\n</ul>\n\n<p>Cedro Toro is a entrepreneur and management coach with a passion&nbsp\;for helping leaders like you create a culture of continuous&nbsp\;improvement.&nbsp\;As Vice President of Manufacturing for Purple Mattress\, Cedro&nbsp\;tripled production output\, earning the company the&nbsp\; Manufacturer&nbsp\;of the Year award.&nbsp\;As President of Lean Six Sigma Toolbox\, Cedro has worked with&nbsp\;Fortune 500 companies like Walmart and Tesla\, as well as local<br />\nfamily run businesses\, helping them create effective strategies and&nbsp\;achieve breakthrough results.&nbsp\;Cedro holds a bachelor&rsquo\;s degree in Electrical Engineering from the&nbsp\;University of Utah and MBA from Idaho State University.<br />\n<br />\nSponsored by the Wyoming Innovation Program (WIP). Limited seating is available.</p>\n
LOCATION:Central Wyoming College's Intertribal Center\, #116
UID:e.1258.31049
SEQUENCE:3
DTSTAMP:20260419T221928Z
URL:http://info.landerchamber.org/events/details/lean-manufacturing-with-cedro-toro-riverton-31049
END:VEVENT

END:VCALENDAR
