BEGIN:VCALENDAR
VERSION:2.0
PRODID:-//ChamberMaster//Event Calendar 2.0//EN
METHOD:PUBLISH
X-PUBLISHED-TTL:P3D
REFRESH-INTERVAL:P3D
CALSCALE:GREGORIAN
BEGIN:VEVENT
DTSTART:20190915T010000Z
DTEND:20190915T030000Z
X-MICROSOFT-CDO-ALLDAYEVENT:FALSE
SUMMARY:Lander Community concerts Association (LCCA) presents our first concert of the 2019 season
DESCRIPTION:LCCA is proud to start our 72nd season with The Super Saturated Sugar Strings Band from Alaska  Their take on Americana is full of dense\, intricate\,virtuosic instrumental arrangements and vocals.  All ticket options are available at the door.\, Students 21 & under are FREE this season.
X-ALT-DESC;FMTTYPE=text/html:LCCA is proud to start our 72nd season with The Super Saturated Sugar Strings Band from Alaska&nbsp\; Their take on Americana is full of dense\, intricate\,virtuosic instrumental arrangements and vocals.&nbsp\; All ticket options are available at the door.\, Students 21 &amp\; under are FREE this season.&nbsp\;
LOCATION:Lander Valley High School Auditorium
UID:e.1258.24595
SEQUENCE:3
DTSTAMP:20260425T010347Z
URL:http://info.landerchamber.org/events/details/lander-community-concerts-association-lcca-presents-our-first-concert-of-the-2019-season-24595
END:VEVENT

END:VCALENDAR
