BEGIN:VCALENDAR
VERSION:2.0
PRODID:-//ChamberMaster//Event Calendar 2.0//EN
METHOD:PUBLISH
X-PUBLISHED-TTL:P3D
REFRESH-INTERVAL:P3D
CALSCALE:GREGORIAN
BEGIN:VEVENT
DTSTART:20190914T210000Z
DTEND:20190914T220000Z
X-MICROSOFT-CDO-ALLDAYEVENT:FALSE
SUMMARY:Lander Community Concerts Association FREE outreach to celebrate the start of our 2019/2020 season
DESCRIPTION:Lander Community Concerts Association (LCCA) kicks off our 2019/2020 season with the Super Saturated Sugar Strings Band from Alaska. You are invited to a FREE outreach program to experience a more personal interaction with this group and hear a sample of the music they will be performing that evening at the 7pm concert.  The FREE outreach will be at 3pm Saturday September 14th at the Lander High School auditorium.  Hope to see you there!
X-ALT-DESC;FMTTYPE=text/html:Lander Community Concerts Association (LCCA) kicks off our 2019/2020 season with the Super Saturated Sugar Strings Band from Alaska. You are invited to a FREE outreach program to experience a more personal interaction with this group and hear a sample of the music they will be performing that evening at the 7pm concert.&nbsp\; The FREE outreach will be at 3pm Saturday September 14th at the Lander High School auditorium.&nbsp\; Hope to see you there!&nbsp\;
LOCATION:Lander Valley High School Auditorium
UID:e.1258.24594
SEQUENCE:3
DTSTAMP:20260425T005925Z
URL:http://info.landerchamber.org/events/details/lander-community-concerts-association-free-outreach-to-celebrate-the-start-of-our-2019-2020-season-24594
END:VEVENT

END:VCALENDAR
