BEGIN:VCALENDAR
VERSION:2.0
PRODID:-//ChamberMaster//Event Calendar 2.0//EN
METHOD:PUBLISH
X-PUBLISHED-TTL:P3D
REFRESH-INTERVAL:P3D
CALSCALE:GREGORIAN
BEGIN:VEVENT
DTSTART:20240308T183000Z
DTEND:20240308T200000Z
X-MICROSOFT-CDO-ALLDAYEVENT:FALSE
SUMMARY:Lander Community Awards Luncheon 2024
DESCRIPTION:The Lander Chamber of Commerce will host the annual Lander Community Awards Luncheon on Friday\, March 8\, 11:30am-1pm\, at the Lander Community & Convention Center\, 950 Buena Vista Drive. \n\n\n\nJoin us in recognizing outstanding individuals and businesses in our community! One complimentary ticket is included in all Chamber memberships. (Some memberships receive more than one. Contact us at 332-3892 to confirm.) Additional tickets for members are available at $30 each and table sponsorships are $500. Guests tickets are $35 and table sponsorships can be purchased for $600. TICKETS WILL NOT BE AVAILABLE at the door. \n\nThis year's speaker will be Dr. Anne Alexander\, Assistant Dean at the University of Wyoming's College of Business and Director of Outreach for the College's Center for Business and Economic Analysis (CBEA). Dr. Alexander will be speaking on the topic of the CBEA's recent economic impact study of Fremont County  % economic development sales tax. \n\n\n\nQuestions? Contact Meghan Manning at 332-3892 or meghan@landerchamber.org\, or stop by the Lander Chamber Visitor Center & Business Complex at 100 N. 1st Street.
X-ALT-DESC;FMTTYPE=text/html:<p><span style="font-size:14px\;">The Lander Chamber of Commerce will host the&nbsp\;annual <strong>Lander&nbsp\;Community Awards Luncheon</strong> on Friday\, March 8\, 11:30am-1pm\, at the Lander Community &amp\; Convention Center\, 950 Buena Vista Drive.&nbsp\;</span><br />\n<br />\n<span style="font-size:14px\;"><span style="font-family: arial\, sans-serif\;">Join us in recognizing outstanding individuals and businesses in our community!&nbsp\;One complimentary ticket is included in all Chamber memberships.&nbsp\;</span>(Some memberships receive more than one. Contact us at 332-3892 to confirm.) A<span style="font-family: arial\, sans-serif\;">dditional tickets&nbsp\;for members </span></span><span style="font-family: arial\, sans-serif\; font-size: 14px\;">are available </span><span style="font-size:14px\;"><span style="font-family: arial\, sans-serif\;">at $30 each and&nbsp\;</span></span><span style="font-family: arial\, sans-serif\; font-size: 14px\;">table sponsorships are $500.&nbsp\;</span><span style="font-size:14px\;"><span style="font-family: arial\, sans-serif\;">Guests tickets are $35 and table sponsorships can be purchased for $600.&nbsp\;</span></span><span style="box-sizing: border-box\; font-weight: bolder\; outline: 0px\; font-family: Arial\, Helvetica\, sans-serif\; font-size: 14px\;">TICKETS WILL NOT BE AVAILABLE at the door.&nbsp\;</span></p>\n\n<p><span style="box-sizing: border-box\; font-family: Arial\, Helvetica\, sans-serif\; font-size: 14px\;">This year&#39\;s speaker will be <span style="box-sizing: border-box\; font-weight: bolder\;">Dr. Anne Alexander\, </span></span><span id="docs-internal-guid-9320b16e-7fff-c39f-a705-e3e4c04be0c8"><span style="font-size: 11pt\; font-family: Arial\, sans-serif\; background-color: transparent\; font-variant-numeric: normal\; font-variant-east-asian: normal\; font-variant-alternates: normal\; font-variant-position: normal\; vertical-align: baseline\; white-space-collapse: preserve\;">Assistant Dean at the University of Wyoming&rsquo\;s College of Business and Director of Outreach for the College&#39\;s Center for Business and Economic Analysis (CBEA). Dr. Alexander will be speaking on the topic of the CBEA&#39\;s recent economic impact study of Fremont County </span></span><span style="font-size:14px\;">&frac12\;% economic development sales tax.</span><span style="font-size: 11pt\; font-family: Arial\, sans-serif\; background-color: transparent\; font-variant-numeric: normal\; font-variant-east-asian: normal\; font-variant-alternates: normal\; font-variant-position: normal\; vertical-align: baseline\; white-space-collapse: preserve\;"> </span><br />\n<br />\n<span style="font-size:14px\;"><span style="font-family: arial\, sans-serif\;">Questions? Contact Meghan Manning at 332-3892 or&nbsp\;meghan@landerchamber.org\, or stop by the Lander Chamber Visitor Center &amp\; Business Complex at 100 N. 1st Street.</span></span></p>\n
LOCATION:Lander Community & Convention Center
UID:e.1258.31031
SEQUENCE:3
DTSTAMP:20260420T062227Z
URL:http://info.landerchamber.org/events/details/lander-community-awards-luncheon-2024-31031
END:VEVENT

END:VCALENDAR
