BEGIN:VCALENDAR
VERSION:2.0
PRODID:-//ChamberMaster//Event Calendar 2.0//EN
METHOD:PUBLISH
X-PUBLISHED-TTL:P3D
REFRESH-INTERVAL:P3D
CALSCALE:GREGORIAN
BEGIN:VEVENT
DTSTART:20230722T001000Z
DTEND:20230722T181000Z
X-MICROSOFT-CDO-ALLDAYEVENT:FALSE
SUMMARY:Lander 3rd Annual Pig Roast
DESCRIPTION:City Park\n\nFriday\, July 21\, 6-10 pm\n\nSaturday\, July 22\, 12-10 pm\n\n\n\nLive Music\n\n5k Fun Run: July 22\, 8-10 am\n\nFree Pulled Pork Sandwiches: July 22\, 12-4 pm\n\nCornhole Tournament\n\nDunk Tank - Raffle for Drawings
X-ALT-DESC;FMTTYPE=text/html:City Park<br />\nFriday\, July 21\, 6-10 pm<br />\nSaturday\, July 22\, 12-10 pm<br />\n<br />\nLive Music<br />\n5k Fun Run: July 22\, 8-10 am<br />\nFree Pulled Pork Sandwiches: July 22\, 12-4 pm<br />\nCornhole Tournament<br />\nDunk Tank - Raffle for Drawings
LOCATION:
UID:e.1258.30670
SEQUENCE:3
DTSTAMP:20260420T103025Z
URL:http://info.landerchamber.org/events/details/lander-3rd-annual-pig-roast-30670
END:VEVENT

END:VCALENDAR
