BEGIN:VCALENDAR
VERSION:2.0
PRODID:-//ChamberMaster//Event Calendar 2.0//EN
METHOD:PUBLISH
X-PUBLISHED-TTL:P3D
REFRESH-INTERVAL:P3D
CALSCALE:GREGORIAN
BEGIN:VEVENT
DTSTART:20220922T180000Z
DTEND:20220922T180000Z
X-MICROSOFT-CDO-ALLDAYEVENT:FALSE
SUMMARY:Kiwanis Club of Lander
DESCRIPTION:The Kiwanis Club of Lander meets every Thursday noon at Mamaw's Kitchen\, 260 Grandview Drive.\n\nThis friendly group will welcome anyone interested in finding out about what they do for the children of the area! Join in!
X-ALT-DESC;FMTTYPE=text/html:The Kiwanis Club of Lander meets every Thursday noon at Mamaw&#39\;s Kitchen\, 260 Grandview Drive.<br />\nThis friendly group will welcome anyone interested in finding out about what they do for the children of the area! Join in!
LOCATION:
UID:e.1258.28304
SEQUENCE:3
DTSTAMP:20260421T163313Z
URL:http://info.landerchamber.org/events/details/kiwanis-club-of-lander-09-22-2022-28304
END:VEVENT

END:VCALENDAR
