BEGIN:VCALENDAR
VERSION:2.0
PRODID:-//ChamberMaster//Event Calendar 2.0//EN
METHOD:PUBLISH
X-PUBLISHED-TTL:P3D
REFRESH-INTERVAL:P3D
CALSCALE:GREGORIAN
BEGIN:VEVENT
DTSTART:20250605T180000Z
DTEND:20250605T180000Z
X-MICROSOFT-CDO-ALLDAYEVENT:FALSE
SUMMARY:Kiwanis Club of Lander
DESCRIPTION:The Kiwanis Club of Lander meets every Thursday noon at Mamaw's Kitchen\, 260 Grandview Drive.\n\nThis friendly group will welcome anyone interested in finding out about what they do for the children of the area! Join in!
X-ALT-DESC;FMTTYPE=text/html:The Kiwanis Club of Lander meets every Thursday noon at Mamaw&#39\;s Kitchen\, 260 Grandview Drive.<br />\nThis friendly group will welcome anyone interested in finding out about what they do for the children of the area! Join in!
LOCATION:
UID:e.1258.28445
SEQUENCE:3
DTSTAMP:20260421T034319Z
URL:http://info.landerchamber.org/events/details/kiwanis-club-of-lander-06-05-2025-28445
END:VEVENT

END:VCALENDAR
