BEGIN:VCALENDAR
VERSION:2.0
PRODID:-//ChamberMaster//Event Calendar 2.0//EN
METHOD:PUBLISH
X-PUBLISHED-TTL:P3D
REFRESH-INTERVAL:P3D
CALSCALE:GREGORIAN
BEGIN:VEVENT
DTSTART:20240404T180000Z
DTEND:20240404T180000Z
X-MICROSOFT-CDO-ALLDAYEVENT:FALSE
SUMMARY:Kiwanis Club of Lander
DESCRIPTION:The Kiwanis Club of Lander meets every Thursday noon at Mamaw's Kitchen\, 260 Grandview Drive.\n\nThis friendly group will welcome anyone interested in finding out about what they do for the children of the area! Join in!
X-ALT-DESC;FMTTYPE=text/html:The Kiwanis Club of Lander meets every Thursday noon at Mamaw&#39\;s Kitchen\, 260 Grandview Drive.<br />\nThis friendly group will welcome anyone interested in finding out about what they do for the children of the area! Join in!
LOCATION:
UID:e.1258.28384
SEQUENCE:3
DTSTAMP:20260419T211211Z
URL:http://info.landerchamber.org/events/details/kiwanis-club-of-lander-04-04-2024-28384
END:VEVENT

END:VCALENDAR
