BEGIN:VCALENDAR
VERSION:2.0
PRODID:-//ChamberMaster//Event Calendar 2.0//EN
METHOD:PUBLISH
X-PUBLISHED-TTL:P3D
REFRESH-INTERVAL:P3D
CALSCALE:GREGORIAN
BEGIN:VEVENT
DTSTART;VALUE=DATE:20230817
DTEND;VALUE=DATE:20230821
TRANSP:TRANSPARENT
X-MICROSOFT-CDO-ALLDAYEVENT:TRUE
SUMMARY:Jurassic Classic Mountain Bike Festival 2023
DESCRIPTION:Jurassic Classic Mountain Bike Festival will be held August 17-20\, 2023.\n\nEnjoy group rides\, clinics\, shuttles\, trail building\, art and live music by Futurebirds with Patti Fiasco!\n\nFor more information and tickets visit https://www.jurassicclassicfest.com/
X-ALT-DESC;FMTTYPE=text/html:Jurassic Classic Mountain Bike Festival will be held August 17-20\, 2023.<br />\nEnjoy group rides\, clinics\, shuttles\, trail building\, art and live music by Futurebirds with Patti Fiasco!<br />\nFor more information and tickets visit&nbsp\;<a href="https://www.jurassicclassicfest.com/">https://www.jurassicclassicfest.com/</a>
LOCATION:Various locations around Lander
UID:e.1258.30688
SEQUENCE:3
DTSTAMP:20260422T092246Z
URL:http://info.landerchamber.org/events/details/jurassic-classic-mountain-bike-festival-2023-30688
END:VEVENT

END:VCALENDAR
