BEGIN:VCALENDAR
VERSION:2.0
PRODID:-//ChamberMaster//Event Calendar 2.0//EN
METHOD:PUBLISH
X-PUBLISHED-TTL:P3D
REFRESH-INTERVAL:P3D
CALSCALE:GREGORIAN
BEGIN:VEVENT
DTSTART:20190908T190000Z
DTEND:20190908T230000Z
X-MICROSOFT-CDO-ALLDAYEVENT:FALSE
SUMMARY:Journal-Making Workshop "Vacation Memories"
DESCRIPTION:Did you take a trip this summer? Have a family reunion? Spend some time camping? Join maker and artist Lori Hunter at this workshop to create a journal of your summer memories!\n\n\n\nUse photos\, receipts\, pamphlets\, sketches\, words\, tags and even leaves\, twigs\, seashells\, rocks or other small objects to create a custom book. Bring anything that reminds you of who or what you saw and did - almost anything can be added to a journal!\n\n\n\nSee your memories take shape beneath your hands as you design the cover and pages using further embellishments (provided) - paper\, fabric\, objects\, buttons\, stamps\, stickers and more for a one-of-a kind journal or notebook.\n\n\n\nEmbellishments\, paper\, covers\, binding (metal 'o' rings)\, tools and ideas will be provided  to get you started. You provide the memorabilia and content.\n\n\n\nCost: $40 per person. 12 years or older to participate\, please. Register at https://www.snowdeepdesigns.com/events
X-ALT-DESC;FMTTYPE=text/html:<span style="color:rgb(29\, 33\, 41)\; font-family:system-ui\,-apple-system\,blinkmacsystemfont\,.sfnstext-regular\,sans-serif\; font-size:14px">Did you take a trip this summer? Have a family reunion? Spend some time camping? Join maker and artist Lori Hunter at this workshop to create a journal of your summer memories!</span><br />\n<br />\n<span style="color:rgb(29\, 33\, 41)\; font-family:system-ui\,-apple-system\,blinkmacsystemfont\,.sfnstext-regular\,sans-serif\; font-size:14px">Use photos\, receipts\, pamphlets\, sketches\, words\, tags and even leaves\, twigs\, seashells\, rocks or other small objects to create a custom book. Bring anything that reminds you of who or what you saw and did - almost anything can be added to a journal!</span><br />\n<br />\n<span style="color:rgb(29\, 33\, 41)\; font-family:system-ui\,-apple-system\,blinkmacsystemfont\,.sfnstext-regular\,sans-serif\; font-size:14px">See your memories take shape beneath your hands as you design the cover and pages using further embellishments (provided) - paper\, fabric\, objects\, buttons\, stamps\, stickers and more for a one-of-a kind journal or notebook.</span><br />\n<br />\n<span style="color:rgb(29\, 33\, 41)\; font-family:system-ui\,-apple-system\,blinkmacsystemfont\,.sfnstext-regular\,sans-serif\; font-size:14px">Embellishments\, paper\, covers\, binding (metal &#39\;o&#39\; rings)\, tools and ideas will be provided&nbsp\; to get you started. You provide the memorabilia and content.</span><br />\n<br />\n<span style="color:rgb(29\, 33\, 41)\; font-family:system-ui\,-apple-system\,blinkmacsystemfont\,.sfnstext-regular\,sans-serif\; font-size:14px">Cost: $40 per person. 12 years or older to participate\, please. Register at </span>https://www.snowdeepdesigns.com/events
LOCATION:Snow Deep Designs 326 Main Street\, Lander
UID:e.1258.24578
SEQUENCE:3
DTSTAMP:20260425T005337Z
URL:http://info.landerchamber.org/events/details/journal-making-workshop-vacation-memories-24578
END:VEVENT

END:VCALENDAR
