BEGIN:VCALENDAR
VERSION:2.0
PRODID:-//ChamberMaster//Event Calendar 2.0//EN
METHOD:PUBLISH
X-PUBLISHED-TTL:P3D
REFRESH-INTERVAL:P3D
CALSCALE:GREGORIAN
BEGIN:VEVENT
DTSTART:20220910T000000Z
DTEND:20220910T030000Z
X-MICROSOFT-CDO-ALLDAYEVENT:FALSE
SUMMARY:Jalan Crossland and Joshua James
DESCRIPTION:Celebrating 75 years as a nonprofit\, Lander Performing Arts\, formerly Lander Community Concerts Association\, is sponsoring a FREE musical performance on September 9\, 2022 at 6:00 p.m. at the Lander City Park.  Music by Joshua James will begin at 6:30 p.m..  The headline performer\, Jalan Crossland will be playing at 7:30 p.m.  Food and Beverages will be available for purchase.  This is a FREE performance\, donations are welcome to offset costs.  Please join us!!
X-ALT-DESC;FMTTYPE=text/html:Celebrating 75 years as a nonprofit\, Lander Performing Arts\, formerly Lander Community Concerts Association\, is sponsoring a FREE musical performance on September 9\, 2022 at 6:00 p.m. at the Lander City Park. &nbsp\;Music by Joshua James will begin at 6:30 p.m.. &nbsp\;The headline performer\, Jalan Crossland will be playing at 7:30 p.m. &nbsp\;Food and Beverages will be available for purchase. &nbsp\;This is a FREE performance\, donations are welcome to offset costs. &nbsp\;Please join us!!
LOCATION:Lander City Park
UID:e.1258.29695
SEQUENCE:3
DTSTAMP:20260421T163421Z
URL:http://info.landerchamber.org/events/details/jalan-crossland-and-joshua-james-09-09-2022-29695
END:VEVENT

END:VCALENDAR
