BEGIN:VCALENDAR
VERSION:2.0
PRODID:-//ChamberMaster//Event Calendar 2.0//EN
METHOD:PUBLISH
X-PUBLISHED-TTL:P3D
REFRESH-INTERVAL:P3D
CALSCALE:GREGORIAN
BEGIN:VEVENT
DTSTART:20230918T180000Z
DTEND:20230918T190000Z
X-MICROSOFT-CDO-ALLDAYEVENT:FALSE
SUMMARY:IMPACT 307 Lunch + Learn: Broke Academic to Billions Commercialized
DESCRIPTION:About the Webinar:\n\nMonica Patten discusses the transition in mindset to go from a graduate student pursuing journal publications to an accomplished industry professional with multiple trade secrets and patents worldwide.  Her industry work has resulted in billions in annual Net Organic Sales for previous employers.  No chemistry knowledge is required to participate in this event as topics will be broadly discussed to apply to all fields. Additionally\, you will learn about the newest seed funding opportunity for Wyoming founders to raise capital to take their idea past concept stage and into action with the Sweetwater County Start-Up Challenge!  \n\n \n\nAbout the Speaker:\n\nMonica Patten provides one-on-one business counseling and executive coaching services to founders in Southwestern Wyoming. In her role as Assistant Director\, she is also working to strengthen and expand the startup resources in SW Wyoming\, including the development of new seed funding opportunities and other programs for entrepreneurs to thrive. Monica is passionate about working with founders and continuing to develop the entrepreneurial ecosystem here in Wyoming.  \n\nBefore joining IMPACT 307\, Monica worked as a chemist across many industries\, with roles spanning from early research to manufacturing. She has extensive experience in patent surveying\, and is the inventor on five patent applications\, with applications at various stages of the patenting process. She holds a Master of Science in synthetic organic chemistry in addition to an MBA.
X-ALT-DESC;FMTTYPE=text/html:<p style="box-sizing: inherit\; overflow-wrap: break-word\; margin: 0px 0px 1.55rem\; padding: 0px\; font-size: 18px\; line-height: 1.6\; text-rendering: optimizelegibility\; word-spacing: 0.001em\; font-feature-settings: &quot\;kern&quot\;\; font-kerning: normal\; color: rgb(83\, 83\, 83)\; font-family: &quot\;Roboto Condensed&quot\;\, BlinkMacSystemFont\, -apple-system\, Roboto\, &quot\;Lucida Sans&quot\;\;"><span style="font-size:12px\;"><span style="font-family:arial\;"><strong style="box-sizing: inherit\; line-height: inherit\;">About the Webinar:</strong></span></span></p>\n\n<p style="box-sizing: inherit\; overflow-wrap: break-word\; margin: 0px 0px 1.55rem\; padding: 0px\; font-size: 18px\; line-height: 1.6\; text-rendering: optimizelegibility\; word-spacing: 0.001em\; font-feature-settings: &quot\;kern&quot\;\; font-kerning: normal\; color: rgb(83\, 83\, 83)\; font-family: &quot\;Roboto Condensed&quot\;\, BlinkMacSystemFont\, -apple-system\, Roboto\, &quot\;Lucida Sans&quot\;\;"><span style="font-size:12px\;"><span style="font-family:arial\;">Monica Patten discusses the transition in mindset to go from a graduate student pursuing journal publications to an accomplished industry professional with multiple trade secrets and patents worldwide.&nbsp\; Her industry work has resulted in billions in annual Net Organic Sales for previous employers.&nbsp\; No chemistry knowledge is required to participate in this event as topics will be broadly discussed to apply to all fields. Additionally\, you will learn about the newest seed funding opportunity for Wyoming founders to raise capital to take their idea past concept stage and into action with the Sweetwater County Start-Up Challenge!&nbsp\;&nbsp\;</span></span><br />\n&nbsp\;</p>\n\n<p style="box-sizing: inherit\; overflow-wrap: break-word\; margin: 0px 0px 1.55rem\; padding: 0px\; font-size: 18px\; line-height: 1.6\; text-rendering: optimizelegibility\; word-spacing: 0.001em\; font-feature-settings: &quot\;kern&quot\;\; font-kerning: normal\; color: rgb(83\, 83\, 83)\; font-family: &quot\;Roboto Condensed&quot\;\, BlinkMacSystemFont\, -apple-system\, Roboto\, &quot\;Lucida Sans&quot\;\;"><span style="font-size:12px\;"><span style="font-family:arial\;"><strong style="box-sizing: inherit\; line-height: inherit\;">About the Speaker:</strong></span></span></p>\n\n<p style="box-sizing: inherit\; overflow-wrap: break-word\; margin: 0px 0px 1.55rem\; padding: 0px\; font-size: 18px\; line-height: 1.6\; text-rendering: optimizelegibility\; word-spacing: 0.001em\; font-feature-settings: &quot\;kern&quot\;\; font-kerning: normal\; color: rgb(83\, 83\, 83)\; font-family: &quot\;Roboto Condensed&quot\;\, BlinkMacSystemFont\, -apple-system\, Roboto\, &quot\;Lucida Sans&quot\;\;"><span style="font-size:12px\;"><span style="font-family:arial\;">Monica Patten provides one-on-one business counseling and executive coaching services to founders in Southwestern Wyoming. In her role as Assistant Director\, she is also working to strengthen and expand the startup resources in SW Wyoming\, including the development of new seed funding opportunities and other programs for entrepreneurs to thrive. Monica is passionate about working with founders and continuing to develop the entrepreneurial ecosystem here in Wyoming.&nbsp\;&nbsp\;</span></span></p>\n\n<p style="box-sizing: inherit\; overflow-wrap: break-word\; margin: 0px 0px 1.55rem\; padding: 0px\; font-size: 18px\; line-height: 1.6\; text-rendering: optimizelegibility\; word-spacing: 0.001em\; font-feature-settings: &quot\;kern&quot\;\; font-kerning: normal\; color: rgb(83\, 83\, 83)\; font-family: &quot\;Roboto Condensed&quot\;\, BlinkMacSystemFont\, -apple-system\, Roboto\, &quot\;Lucida Sans&quot\;\;"><span style="font-size:12px\;"><span style="font-family:arial\;">Before joining IMPACT 307\, Monica worked as a chemist across many industries\, with roles spanning from early research to manufacturing. She has extensive experience in patent surveying\, and is the inventor on five patent applications\, with applications at various stages of the patenting process. She holds a Master of Science in synthetic organic chemistry in addition to an MBA.&nbsp\; &nbsp\;</span></span></p>\n
LOCATION:Online
UID:e.1258.30734
SEQUENCE:3
DTSTAMP:20260420T080238Z
URL:http://info.landerchamber.org/events/details/impact-307-lunch-learn-broke-academic-to-billions-commercialized-30734
END:VEVENT

END:VCALENDAR
