BEGIN:VCALENDAR
VERSION:2.0
PRODID:-//ChamberMaster//Event Calendar 2.0//EN
METHOD:PUBLISH
X-PUBLISHED-TTL:P3D
REFRESH-INTERVAL:P3D
CALSCALE:GREGORIAN
BEGIN:VEVENT
DTSTART:20231107T220000Z
DTEND:20231107T230000Z
X-MICROSOFT-CDO-ALLDAYEVENT:FALSE
SUMMARY:How to Comply with the Corporate Transparency Act - Session 3
DESCRIPTION:A new federal reporting regulation is set to take effect January 1\, 2024 that will require 32.6 million small businesses to register their sensitive owner and officer information with the federal government or face severe criminal and civil penalties.\n\n\n\nThe Lander Chamber of Commerce and Summit West CPA Group are partnering to make sure that businesses in Lander and Fremont County are aware of these reporting requirements and the consequences for not filing. \n\n\n\nSummit West Partners Lorielle Morton and Bryan Brown will be providing opportunities throughout the day\, Tuesday\, November 7\, at the Lander Chamber of Commerce Visitor Center & Business Complex for small business owners to learn whether they will have to comply with this new requirement and by when. Attendees will have an opportunity to ask questions and will leave with a clear idea of what they'll need to do if they have to comply. \n\n\n\nFour sessions will be available throughout the day to accommodate as many people as possible: 10:00 a.m.\, noon\, 3:00 p.m.\, and 5:30 p.m. Attendance is free and open to members and non-members. \n\n\n\nIf you'd like to learn more about the Corporate Transparency Act\, visit the Chamber's blog at landerchamber.org/blog and read the October 11 and September 8 posts. Links to additional information about the CTA can be found therein.
X-ALT-DESC;FMTTYPE=text/html:<span class="OYPEnA text-decoration-none text-strikethrough-none">A new federal reporting regulation is set to take effect January 1\, 2024 that will require 32.6 million small businesses to register their sensitive owner and officer information with the federal government or face severe criminal and civil penalties.</span><br />\n<br />\nThe Lander Chamber of Commerce and Summit West CPA Group are partnering to make sure that businesses in Lander and Fremont County are aware of these reporting requirements and the consequences for not filing.&nbsp\;<br />\n<br />\nSummit West Partners Lorielle Morton and Bryan Brown will be providing opportunities throughout the day\, Tuesday\, November 7\, at the Lander Chamber of Commerce Visitor Center &amp\; Business Complex for small business owners to learn whether they will have to comply with this new requirement and by when. Attendees will have an opportunity to ask questions and will leave with a clear idea of what they&rsquo\;ll need to do if they have to comply.&nbsp\;<br />\n<br />\nFour sessions will be available throughout the day to accommodate as many people as possible: 10:00 a.m.\, noon\, 3:00 p.m.\, and 5:30 p.m. Attendance is free and open to members and non-members.&nbsp\;<br />\n<br />\nIf you&rsquo\;d like to learn more about the Corporate Transparency Act\, visit the Chamber&rsquo\;s blog at <a href="http://landerchamber.org/blog" target="_blank">landerchamber.org/blog</a> and read the October 11 and September 8 posts. Links to additional information about the CTA can be found therein.
LOCATION:Lander Chamber of Commerce Visitor Center & Business Complex 100 N 1st Street Lander\, WY 82520
UID:e.1258.30917
SEQUENCE:3
DTSTAMP:20260420T050304Z
URL:http://info.landerchamber.org/events/details/how-to-comply-with-the-corporate-transparency-act-session-3-30917
END:VEVENT

END:VCALENDAR
