BEGIN:VCALENDAR
VERSION:2.0
PRODID:-//ChamberMaster//Event Calendar 2.0//EN
METHOD:PUBLISH
X-PUBLISHED-TTL:P3D
REFRESH-INTERVAL:P3D
CALSCALE:GREGORIAN
BEGIN:VEVENT
DTSTART:20261212T210000Z
DTEND:20261213T030000Z
X-MICROSOFT-CDO-ALLDAYEVENT:FALSE
SUMMARY:"Holiday Fest"
DESCRIPTION:"Holiday Fest December 12th\, 2pm\n\n\n\nJoin the Riverton Museum for our Holiday Fest on December 12th 2pm-8pm sponsored by Pit Stop/ Bailey Tire & Auto Service. Holiday crafts\, activities\, hot cocoa\, and cookies will be available! Children can also take part in our Santa's Workshop\, where they can purchase a toy ($7) and build and paint it right here in Santa's Workshop!\n\n\n\nFrom 6pm-8pm\, a live musical performance will take place.
X-ALT-DESC;FMTTYPE=text/html:<strong><span style="font-family:arial\,sans-serif">&ldquo\;Holiday Fest December 12<sup>th</sup>\, 2pm</span></strong><br />\n<br />\n<span style="font-family:arial\,sans-serif">Join the Riverton Museum for our Holiday Fest on December 12<sup>th</sup> 2pm-8pm sponsored by Pit Stop/ Bailey Tire &amp\; Auto Service. Holiday crafts\, activities\, hot cocoa\, and cookies will be available! Children can also take part in our Santa&rsquo\;s Workshop\, where they can purchase a toy ($7) and build and paint it right here in Santa&rsquo\;s Workshop!</span><br />\n<br />\n<span style="font-family:arial\,sans-serif">From 6pm-8pm\, a live musical performance will take place.&nbsp\;</span>
LOCATION:Riverton Museum 700 E Park Ave Riverton\, WY 82501
UID:e.1258.33168
SEQUENCE:3
DTSTAMP:20260422T085250Z
URL:http://info.landerchamber.org/events/details/holiday-fest-33168
END:VEVENT

END:VCALENDAR
