BEGIN:VCALENDAR
VERSION:2.0
PRODID:-//ChamberMaster//Event Calendar 2.0//EN
METHOD:PUBLISH
X-PUBLISHED-TTL:P3D
REFRESH-INTERVAL:P3D
CALSCALE:GREGORIAN
BEGIN:VEVENT
DTSTART:20230715T013000Z
DTEND:20230715T013000Z
X-MICROSOFT-CDO-ALLDAYEVENT:FALSE
SUMMARY:Friday Night Rodeo in Dubois
DESCRIPTION:Friday Night Rodeo\n\nEvery Friday night in beautiful Dubois at the Clarence Allison Memorial Arena. Real west\, family friendly rodeo experience. 7:30 p.m. Tickets are available at the gate. Adults $15\, Kids (six to 12) $10\, five and under free. (307) 710-7080. 5639 US-26.
X-ALT-DESC;FMTTYPE=text/html:<p dir="ltr" style="line-height:1.38\;margin-top:5pt\;margin-bottom:0pt\;"><span id="docs-internal-guid-eb65e69d-7fff-4c0b-8c43-bcaf9cdc409a"><span style="font-size: 9.5pt\; font-family: Arial\; color: rgb(0\, 0\, 0)\; font-variant-numeric: normal\; font-variant-east-asian: normal\; font-variant-alternates: normal\; vertical-align: baseline\; white-space-collapse: preserve\;"><strong>Friday Night Rodeo</strong><br />\nEvery Friday night in beautiful Dubois at the Clarence Allison Memorial Arena. Real west\, family friendly rodeo experience. 7:30 p.m. Tickets are available at the gate. Adults $15\, Kids (six to 12) $10\, five and under free. (307) 710-7080. 5639 US-26.</span></span></p>\n\n<div>&nbsp\;</div>\n
LOCATION:Clarence Allison Memorial Arena\, 5639 US 26\, Dubois
UID:e.1258.30642
SEQUENCE:3
DTSTAMP:20260420T103503Z
URL:http://info.landerchamber.org/events/details/friday-night-rodeo-in-dubois-07-14-2023-30642
END:VEVENT

END:VCALENDAR
