BEGIN:VCALENDAR
VERSION:2.0
PRODID:-//ChamberMaster//Event Calendar 2.0//EN
METHOD:PUBLISH
X-PUBLISHED-TTL:P3D
REFRESH-INTERVAL:P3D
CALSCALE:GREGORIAN
BEGIN:VEVENT
DTSTART;VALUE=DATE:20230930
DTEND;VALUE=DATE:20231002
TRANSP:TRANSPARENT
X-MICROSOFT-CDO-ALLDAYEVENT:TRUE
SUMMARY:Fremont Toyota Shootout 2023
DESCRIPTION:The annual Lander Strikers Fremont Toyota Shootout Soccer Tournament is this weekend\, Sept. 30-Oct. 1!\n\n\n\nYou might want to consider:\n\n-Getting your groceries early\n\n-Being patient with our local restaurants as they will see a large influx of customers\n\n-Using caution as you drive around town as there will be a large number of pedestrians and\n\ntraffic around LVHS\, LMS\, North Park\, and behind the swimming pool\n\n\n\nPlease make our 3\,000+ visitors feel welcome as they really love coming to Lander for this huge\n\ntournament! Games will be played at Lander Valley High School\, Lander Middle School\, North\n\nPark\, and Popo Agie Park (Starrett). 130+ teams will be attending the tournament from around\n\nthe region.\n\n\n\nVisit https://www.landerstrikerssoccer.org/home for more information and the full schedule.
X-ALT-DESC;FMTTYPE=text/html:The annual <u><strong>Lander Strikers Fremont Toyota Shootout Soccer Tournament</strong></u> is this weekend\, Sept. 30-Oct. 1!<br />\n<br />\nYou might want to consider:<br />\n-Getting your groceries early<br />\n-Being patient with our local restaurants as they will see a large influx of customers<br />\n-Using caution as you drive around town as there will be a large number of pedestrians and<br />\ntraffic around LVHS\, LMS\, North Park\, and behind the swimming pool<br />\n<br />\n<em>Please make our 3\,000+ visitors feel welcome as they really love coming to Lander for this huge<br />\ntournament! </em>Games will be played at Lander Valley High School\, Lander Middle School\, North<br />\nPark\, and Popo Agie Park (Starrett). 130+ teams will be attending the tournament from around<br />\nthe region.<br />\n<br />\nVisit&nbsp\;<a href="https://www.landerstrikerssoccer.org/home">https://www.landerstrikerssoccer.org/home</a> for more information and the full schedule.
LOCATION:Games will be played at Lander Valley High School\, Lander Middle School\, North Park and Popo Agie Park (Starrett)
UID:e.1258.30765
SEQUENCE:3
DTSTAMP:20260420T050324Z
URL:http://info.landerchamber.org/events/details/fremont-toyota-shootout-2023-30765
END:VEVENT

END:VCALENDAR
