BEGIN:VCALENDAR
VERSION:2.0
PRODID:-//ChamberMaster//Event Calendar 2.0//EN
METHOD:PUBLISH
X-PUBLISHED-TTL:P3D
REFRESH-INTERVAL:P3D
CALSCALE:GREGORIAN
BEGIN:VEVENT
DTSTART:20230919T150000Z
DTEND:20230919T210000Z
X-MICROSOFT-CDO-ALLDAYEVENT:FALSE
SUMMARY:Fremont County Commission Regular Meeting
DESCRIPTION:The Fremont County Commissioners will convene on Tuesday\, September 19\, for their regular meeting in the Commissioners' Chambers at the Fremont County Courthouse.\n\nThe meeting is open to the public and can be attended in-person or via Zoom. Click here to watch online or for audio-only dial +1 253 215 8782 and enter the following info: Meeting ID: 890 0759 5241 Passcode: 317188\n\nBelow is the current agenda\, which is tentative and subject to change at any time.I. PRELIMINARY:\n\n\n\n9:00 A.M.:\n\n\n\nA. CALL TO ORDER\n\nB. QUORUM PRESENT\n\nC. PLEDGE OF ALLEGIANCE\n\nD. OPENING PRAYER\n\nE. APPROVAL OF AGENDA\n\nF. APPROVAL OF MINUTES\n\nG. ACCEPTANCE OF BILLS\n\nH. ACCEPTANCE OF TITLE 25 BILLS\n\nI. SIGNATURE FILE\n\nJ. PRIORITY MAIL\n\n\n\nII. REPORTS/APPOINTMENTS:\n\n\n\n9:10 A.M.: PUBLIC COMMENT9:15 A.M.: JR PROJECT MANAGEMENT\, JR OAKLEY   PROJECT UPDATE\n\n\n\n9:20 A.M.: VISIONARY BROADBAND\, JOHN MARBLE & TYKE HART   PROPOSED POWER ROUTE\n\n\n\n9:30 A.M.: WYOMING SHOOTING COMPLEX REPRESENTATIVES   BUDGET PROPOSAL9:45 A.M.: LIBRARY BOARD   ANNUAL REPORT & SPECIAL BOARD MEETING REPORT\n\n\n\n10:20 A.M.: BREAK\n\n\n\n10:30 A.M.: LANDER AND RIVERTON SENIOR CENTERS SPECIAL DISTRICT PROPOSITION\n\n\n\n10:45 A.M.: BOARD OF EQUALIZATION   JOHN SCHUMACHER DRAFT DECISION ORDER\n\n\n\n11:00 A.M.: MOVE APPLICANT INTERVIEWS\n\n\n\n12:00 A.M.: EXECUTIVE SESSION   POTENTIAL PROPERTY ACQUISITION\n\n\n\n1:00 P.M.: LUNCH\n\n\n\nIII. OLD BUSINESS:\n\n\n\nIV. NEW BUSINESS:\n\nA. COMMISSIONERS' MEETING REPORTS\n\nB. COUNTY CLERK REPORT/QUESTIONS\n\nC. ELECTED OFFICIALS' CONCERNS\n\n\n\nV. ADJOURNMENT:
X-ALT-DESC;FMTTYPE=text/html:<p style="box-sizing: border-box\; margin: 0px auto 26px\; overflow-wrap: break-word\; color: rgb(34\, 34\, 34)\; font-family: Verdana\, BlinkMacSystemFont\, -apple-system\, &quot\;segoe ui&quot\;\, Roboto\, Oxygen\, Ubuntu\, Cantarell\, &quot\;open sans&quot\;\, &quot\;helvetica neue&quot\;\, sans-serif\; font-size: 15px\;">The Fremont County Commissioners will convene on Tuesday\, September 19\, for their regular meeting in the Commissioners&rsquo\; Chambers at the Fremont County Courthouse.</p>\n\n<p style="box-sizing: border-box\; margin: 0px auto 26px\; overflow-wrap: break-word\; color: rgb(34\, 34\, 34)\; font-family: Verdana\, BlinkMacSystemFont\, -apple-system\, &quot\;segoe ui&quot\;\, Roboto\, Oxygen\, Ubuntu\, Cantarell\, &quot\;open sans&quot\;\, &quot\;helvetica neue&quot\;\, sans-serif\; font-size: 15px\;">The meeting is open to the public and can be attended in-person or via Zoom.&nbsp\;<a href="https://us02web.zoom.us/j/89007595241?pwd=SkhUeHVUWXIzTFJlaTc4UEJaRG1sZz09" style="box-sizing: border-box\; background-color: transparent\; color: rgb(239\, 84\, 34)\; text-decoration-line: none\; pointer-events: auto\;">Click here</a>&nbsp\;to watch online or for audio-only dial +1 253 215 8782 and enter the following info: Meeting ID: 890 0759 5241 Passcode: 317188</p>\n\n<p style="box-sizing: border-box\; margin: 0px auto 26px\; overflow-wrap: break-word\; color: rgb(34\, 34\, 34)\; font-family: Verdana\, BlinkMacSystemFont\, -apple-system\, &quot\;segoe ui&quot\;\, Roboto\, Oxygen\, Ubuntu\, Cantarell\, &quot\;open sans&quot\;\, &quot\;helvetica neue&quot\;\, sans-serif\; font-size: 15px\;">Below is the current agenda\, which is tentative and subject to change at any time.I. PRELIMINARY:<br />\n<br />\n9:00 A.M.:<br style="box-sizing: border-box\;" />\n<br />\nA. CALL TO ORDER<br style="box-sizing: border-box\;" />\nB. QUORUM PRESENT<br style="box-sizing: border-box\;" />\nC. PLEDGE OF ALLEGIANCE<br style="box-sizing: border-box\;" />\nD. OPENING PRAYER<br style="box-sizing: border-box\;" />\nE. APPROVAL OF AGENDA<br style="box-sizing: border-box\;" />\nF. APPROVAL OF MINUTES<br style="box-sizing: border-box\;" />\nG. ACCEPTANCE OF BILLS<br style="box-sizing: border-box\;" />\nH. ACCEPTANCE OF TITLE 25 BILLS<br style="box-sizing: border-box\;" />\nI. SIGNATURE FILE<br style="box-sizing: border-box\;" />\nJ. PRIORITY MAIL<br />\n<br />\nII. REPORTS/APPOINTMENTS:<br />\n<br />\n9:10 A.M.: PUBLIC COMMENT9:15 A.M.: JR PROJECT MANAGEMENT\, JR OAKLEY &ndash\; PROJECT UPDATE<br />\n<br />\n9:20 A.M.: VISIONARY BROADBAND\, JOHN MARBLE &amp\; TYKE HART &ndash\; PROPOSED POWER ROUTE<br />\n<br />\n9:30 A.M.: WYOMING SHOOTING COMPLEX REPRESENTATIVES &ndash\; BUDGET PROPOSAL9:45 A.M.: LIBRARY BOARD &ndash\; ANNUAL REPORT &amp\; SPECIAL BOARD MEETING REPORT<br />\n<br />\n10:20 A.M.: BREAK<br />\n<br />\n10:30 A.M.: LANDER AND RIVERTON SENIOR CENTERS SPECIAL DISTRICT PROPOSITION<br />\n<br />\n10:45 A.M.: BOARD OF EQUALIZATION &ndash\; JOHN SCHUMACHER DRAFT DECISION ORDER<br />\n<br />\n11:00 A.M.: MOVE APPLICANT INTERVIEWS<br />\n<br />\n12:00 A.M.: EXECUTIVE SESSION &ndash\; POTENTIAL PROPERTY ACQUISITION<br />\n<br />\n1:00 P.M.: LUNCH<br />\n<br />\nIII. OLD BUSINESS:<br />\n<br />\nIV. NEW BUSINESS:</p>\n\n<p style="box-sizing: border-box\; margin: 0px auto 26px\; overflow-wrap: break-word\; color: rgb(34\, 34\, 34)\; font-family: Verdana\, BlinkMacSystemFont\, -apple-system\, &quot\;segoe ui&quot\;\, Roboto\, Oxygen\, Ubuntu\, Cantarell\, &quot\;open sans&quot\;\, &quot\;helvetica neue&quot\;\, sans-serif\; font-size: 15px\;">A. COMMISSIONERS&rsquo\; MEETING REPORTS<br style="box-sizing: border-box\;" />\nB. COUNTY CLERK REPORT/QUESTIONS<br style="box-sizing: border-box\;" />\nC. ELECTED OFFICIALS&rsquo\; CONCERNS<br />\n<br />\nV. ADJOURNMENT:</p>\n
LOCATION:Fremont County Courthouse Room 205
UID:e.1258.30758
SEQUENCE:3
DTSTAMP:20260420T062053Z
URL:http://info.landerchamber.org/events/details/fremont-county-commission-regular-meeting-30758
END:VEVENT

END:VCALENDAR
