BEGIN:VCALENDAR
VERSION:2.0
PRODID:-//ChamberMaster//Event Calendar 2.0//EN
METHOD:PUBLISH
X-PUBLISHED-TTL:P3D
REFRESH-INTERVAL:P3D
CALSCALE:GREGORIAN
BEGIN:VEVENT
DTSTART:20241203T160000Z
DTEND:20241203T190000Z
X-MICROSOFT-CDO-ALLDAYEVENT:FALSE
SUMMARY:Fremont County Commission Meeting
DESCRIPTION:The Fremont County Commissioner will meet to discuss agenda items. Please review agenda request procedures and the decorum and civility policies prior to the meeting. This meeting is open to the public.
X-ALT-DESC;FMTTYPE=text/html:<span style="color: rgb(0\, 0\, 0)\; font-family: &quot\;Work Sans&quot\;\, sans-serif\; font-size: 16px\;">The Fremont County Commissioner will meet to discuss agenda items. Please review&nbsp\;</span><a href="https://fremontcountywy.gov/government/elected_officials/commissioners/meeting.php" style="box-sizing: border-box\; color: rgb(0\, 123\, 255)\; transition: background 0.3s\; word-break: break-all\; font-family: &quot\;Work Sans&quot\;\, sans-serif\; font-size: 16px\;" target="_blank">agenda request procedures and the decorum and civility policies</a><span style="color: rgb(0\, 0\, 0)\; font-family: &quot\;Work Sans&quot\;\, sans-serif\; font-size: 16px\;">&nbsp\;prior to the meeting. This meeting is open to the public.</span>
LOCATION:Fremont County Courthouse County Commissioners' Chambers 450 N. 2nd St.\, Room 205 Lander\, WY 82520
UID:e.1258.31278
SEQUENCE:3
DTSTAMP:20260420T184445Z
URL:http://info.landerchamber.org/events/details/fremont-county-commission-meeting-31278
END:VEVENT

END:VCALENDAR
