BEGIN:VCALENDAR
VERSION:2.0
PRODID:-//ChamberMaster//Event Calendar 2.0//EN
METHOD:PUBLISH
X-PUBLISHED-TTL:P3D
REFRESH-INTERVAL:P3D
CALSCALE:GREGORIAN
BEGIN:VEVENT
DTSTART:20240227T160000Z
DTEND:20240227T220000Z
X-MICROSOFT-CDO-ALLDAYEVENT:FALSE
SUMMARY:Fremont County Career Expo 2024
DESCRIPTION:CALLING ALL HIRING EMPLOYERS!! Register for the 2024 Career Expo where you can meet prospective job candidates. You will be provided with a booth\, advertising for the event\, and lunch. Help us connect job seekers with employers. The day will start at 9:00AM and go until 3:00PM with opportunities for job seekers and students to visit booths\, talk with employers\, fill out applications\, and interview on the spot. If you have any questions please contact DWS at 307-856-9231 or CWC at 307-855-2247.
X-ALT-DESC;FMTTYPE=text/html:<p>CALLING ALL HIRING EMPLOYERS!! Register for the 2024 Career Expo where you can meet prospective job candidates. You will be provided&nbsp\;with a booth\, advertising for the event\, and lunch. Help us connect job seekers with employers. The day will start at 9:00AM and go until 3:00PM with opportunities for job seekers and students to visit booths\, talk with employers\, fill out applications\, and interview on the spot. If you have any questions please contact DWS at 307-856-9231 or CWC at 307-855-2247.</p>\n
LOCATION:Central Wyoming College Robert A. Peck Art Center
UID:e.1258.31060
SEQUENCE:3
DTSTAMP:20260419T234122Z
URL:http://info.landerchamber.org/events/details/fremont-county-career-expo-2024-31060
END:VEVENT

END:VCALENDAR
