BEGIN:VCALENDAR
VERSION:2.0
PRODID:-//ChamberMaster//Event Calendar 2.0//EN
METHOD:PUBLISH
X-PUBLISHED-TTL:P3D
REFRESH-INTERVAL:P3D
CALSCALE:GREGORIAN
BEGIN:VEVENT
DTSTART:20190905T230000Z
DTEND:20190906T010000Z
X-MICROSOFT-CDO-ALLDAYEVENT:FALSE
SUMMARY:Free Climbing Night at Elemental
DESCRIPTION:Join us Thursday 9.5.19\n\nfor a FREE CLIMBING NIGHT\n\n(Free shoe rentals\, too!)\n\n3pm-9pm\n\nRefreshments from 5pm-7pm\n\n\n\nThe gym has newly redesigned walls\, a new floor and a new paint job!\n\n\n\nElemental Performance + Fitness \n\n134 Lincoln Street in Lander \n\nKids 15 and under must be accompanied by an adult
X-ALT-DESC;FMTTYPE=text/html:Join us Thursday 9.5.19<br />\nfor a FREE CLIMBING NIGHT<br />\n(Free shoe rentals\, too!)<br />\n3pm-9pm<br />\nRefreshments from 5pm-7pm<br />\n<br />\nThe gym has newly redesigned walls\, a new floor and a new paint job!<br />\n<br />\nElemental Performance + Fitness&nbsp\;<br />\n134 Lincoln Street in Lander&nbsp\;<br />\nKids 15 and under must be accompanied by an adult
LOCATION:Elemental Performance + Fitness 134 Lincoln Street in Lander
UID:e.1258.25216
SEQUENCE:3
DTSTAMP:20260425T005044Z
URL:http://info.landerchamber.org/events/details/free-climbing-night-at-elemental-25216
END:VEVENT

END:VCALENDAR
